BEGIN:VCALENDAR
VERSION:2.0
PRODID:-//Death Magnetic - ECPv5.10.1//NONSGML v1.0//EN
CALSCALE:GREGORIAN
METHOD:PUBLISH
X-WR-CALNAME:Death Magnetic
X-ORIGINAL-URL:https://deathmagnetic.pl
X-WR-CALDESC:Events for Death Magnetic
BEGIN:VTIMEZONE
TZID:Europe/Warsaw
BEGIN:DAYLIGHT
TZOFFSETFROM:+0100
TZOFFSETTO:+0200
TZNAME:CEST
DTSTART:20150329T010000
END:DAYLIGHT
BEGIN:STANDARD
TZOFFSETFROM:+0200
TZOFFSETTO:+0100
TZNAME:CET
DTSTART:20151025T010000
END:STANDARD
END:VTIMEZONE
BEGIN:VEVENT
DTSTART;TZID=Europe/Warsaw:20150329T190000
DTEND;TZID=Europe/Warsaw:20150329T200000
DTSTAMP:20260421T092411
CREATED:20150222T121436Z
LAST-MODIFIED:20150226T195357Z
UID:73579-1427655600-1427659200@deathmagnetic.pl
SUMMARY:Global Technocratic Eastern Tour 2015 Thy Disease + Nightside Glance + Poizon + Exegutor + Exist-M
DESCRIPTION:
URL:https://deathmagnetic.pl/wydarzenie/global-technocratic-eastern-tour-2015-thy-disease-nightside-glance-poizon-exegutor-exist-m/
LOCATION:Jack Club\, Nemiga str 12\, Mińsk\, Białoruś
CATEGORIES:Koncerty,zagraniczne
ATTACH;FMTTYPE=image/jpeg:https://deathmagnetic.pl/wp-content/uploads/2015/02/Global-Technocratic-Eastern-Tour-2015.jpg
ORGANIZER;CN="Creative%20Music":MAILTO:management@creative-music.pl
GEO:53.9045398;27.5615244
X-APPLE-STRUCTURED-LOCATION;VALUE=URI;X-ADDRESS=Jack Club Nemiga str 12 Mińsk Białoruś;X-APPLE-RADIUS=500;X-TITLE=Nemiga str 12:geo:27.5615244,53.9045398
END:VEVENT
END:VCALENDAR