BEGIN:VCALENDAR
VERSION:2.0
PRODID:-//Death Magnetic - ECPv5.10.1//NONSGML v1.0//EN
CALSCALE:GREGORIAN
METHOD:PUBLISH
X-WR-CALNAME:Death Magnetic
X-ORIGINAL-URL:https://deathmagnetic.pl
X-WR-CALDESC:Events for Death Magnetic
BEGIN:VTIMEZONE
TZID:Europe/Warsaw
BEGIN:DAYLIGHT
TZOFFSETFROM:+0100
TZOFFSETTO:+0200
TZNAME:CEST
DTSTART:20150329T010000
END:DAYLIGHT
BEGIN:STANDARD
TZOFFSETFROM:+0200
TZOFFSETTO:+0100
TZNAME:CET
DTSTART:20151025T010000
END:STANDARD
END:VTIMEZONE
BEGIN:VEVENT
DTSTART;TZID=Europe/Warsaw:20150327T190000
DTEND;TZID=Europe/Warsaw:20150327T230000
DTSTAMP:20260421T123752
CREATED:20150222T120303Z
LAST-MODIFIED:20150226T195841Z
UID:73573-1427482800-1427497200@deathmagnetic.pl
SUMMARY:Global Technocratic Eastern Tour 2015 Thy Disease + Nightside Glance + Exegutor
DESCRIPTION:  \n 
URL:https://deathmagnetic.pl/wydarzenie/global-technocratic-eastern-tour-2015-thy-disease-nightside-glance-exegutor/
LOCATION:MC Grodno
CATEGORIES:Koncerty,zagraniczne
ATTACH;FMTTYPE=image/jpeg:https://deathmagnetic.pl/wp-content/uploads/2015/02/Global-Technocratic-Eastern-Tour-2015.jpg
ORGANIZER;CN="Creative%20Music":MAILTO:management@creative-music.pl
END:VEVENT
END:VCALENDAR