BEGIN:VCALENDAR
VERSION:2.0
PRODID:-//Death Magnetic - ECPv5.10.1//NONSGML v1.0//EN
CALSCALE:GREGORIAN
METHOD:PUBLISH
X-WR-CALNAME:Death Magnetic
X-ORIGINAL-URL:https://deathmagnetic.pl
X-WR-CALDESC:Events for Death Magnetic
BEGIN:VTIMEZONE
TZID:Europe/Warsaw
BEGIN:DAYLIGHT
TZOFFSETFROM:+0100
TZOFFSETTO:+0200
TZNAME:CEST
DTSTART:20150329T010000
END:DAYLIGHT
BEGIN:STANDARD
TZOFFSETFROM:+0200
TZOFFSETTO:+0100
TZNAME:CET
DTSTART:20151025T010000
END:STANDARD
END:VTIMEZONE
BEGIN:VEVENT
DTSTART;VALUE=DATE:20151023
DTEND;VALUE=DATE:20151024
DTSTAMP:20260421T125907
CREATED:20151001T100255Z
LAST-MODIFIED:20151001T100255Z
UID:92798-1445558400-1445644799@deathmagnetic.pl
SUMMARY:GLITTER ROCK: Burlesque & Variety Party
DESCRIPTION:W legendarnej Progresji po raz pierwszy zagości burleska w klimacie rocka! Będzie ostro\, drapieżnie i niegrzecznie! Pokażemy Wam\, że burleska to nie tylko pióra\, cekiny i brokat\, ale też skóra\, ćwieki i ostre brzmienia! \nPo raz pierwszy w roli prowadzącej na (niezbyt) poważnie wystąpi Lola Noir. \nWystąpią m. in.:\n★ Lola Noir\n★ Dirty Lilly\n★ Red Juliette\n★ Elvorien \nStage kitten: Kitty Van Purr\n\nStart: 20:00 (wejście od godz. 19:00) \nBilety: 30 zł\nRezerwacje: lolanoirblog@gmail.com
URL:https://deathmagnetic.pl/wydarzenie/glitter-rock-burlesque-variety-party/
LOCATION:Progresja\, Fort Wola 22\, Warszawa\, Polska
CATEGORIES:Koncerty,zagraniczne
ATTACH;FMTTYPE=image/jpeg:https://deathmagnetic.pl/wp-content/uploads/2015/10/GLITTTERROCK_mini.jpg
ORGANIZER;CN="Progresja":MAILTO:klub@progresja.com
GEO:52.224827;20.9287
X-APPLE-STRUCTURED-LOCATION;VALUE=URI;X-ADDRESS=Progresja Fort Wola 22 Warszawa Polska;X-APPLE-RADIUS=500;X-TITLE=Fort Wola 22:geo:20.9287,52.224827
END:VEVENT
END:VCALENDAR