BEGIN:VCALENDAR
VERSION:2.0
PRODID:-//Death Magnetic - ECPv5.10.1//NONSGML v1.0//EN
CALSCALE:GREGORIAN
METHOD:PUBLISH
X-WR-CALNAME:Death Magnetic
X-ORIGINAL-URL:https://deathmagnetic.pl
X-WR-CALDESC:Events for Death Magnetic
BEGIN:VTIMEZONE
TZID:Europe/Warsaw
BEGIN:DAYLIGHT
TZOFFSETFROM:+0100
TZOFFSETTO:+0200
TZNAME:CEST
DTSTART:20180325T010000
END:DAYLIGHT
BEGIN:STANDARD
TZOFFSETFROM:+0200
TZOFFSETTO:+0100
TZNAME:CET
DTSTART:20181028T010000
END:STANDARD
END:VTIMEZONE
BEGIN:VEVENT
DTSTART;TZID=Europe/Warsaw:20180501T140000
DTEND;TZID=Europe/Warsaw:20180503T233000
DTSTAMP:20260420T211347
CREATED:20171201T181539Z
LAST-MODIFIED:20171201T181539Z
UID:153160-1525183200-1525390200@deathmagnetic.pl
SUMMARY:Gitarowy Rekord Guinessa + 3-majówka
DESCRIPTION:1-3.05 18 Pergola – Hala Stulecia\, ul. Wystawowa 1\, Wrocław\n3 – MAJÓWKA 2018 – najlepszy festiwal w mieście!\nwyst. KULT\, PERFECT\, THE DUMPLINGS\, ØRGANEK…\nkolejni wykonawcy wkrótce! \nPromocyjna cena karnetów na 3 dni imprezy to 99 zł.\nKarnety 2-dniowe kosztują 79 zł\, a bilety na jeden dzień nabędziecie za 49 zł.
URL:https://deathmagnetic.pl/wydarzenie/gitarowy-rekord-guinessa-3-majowka-2/
LOCATION:Pergola\, Wrocław\, Polska
CATEGORIES:Festiwale,Polskie
ATTACH;FMTTYPE=image/jpeg:https://deathmagnetic.pl/wp-content/uploads/2017/12/24255009_1732965360071680_2165497795399719801_o.jpg
ORGANIZER;CN="wROCKfest.pl":MAILTO:wrockfest@wrockfest.pl
GEO:51.1078852;17.0385376
END:VEVENT
END:VCALENDAR