BEGIN:VCALENDAR
VERSION:2.0
PRODID:-//Death Magnetic - ECPv5.10.1//NONSGML v1.0//EN
CALSCALE:GREGORIAN
METHOD:PUBLISH
X-WR-CALNAME:Death Magnetic
X-ORIGINAL-URL:https://deathmagnetic.pl
X-WR-CALDESC:Events for Death Magnetic
BEGIN:VTIMEZONE
TZID:Europe/Warsaw
BEGIN:DAYLIGHT
TZOFFSETFROM:+0100
TZOFFSETTO:+0200
TZNAME:CEST
DTSTART:20160327T010000
END:DAYLIGHT
BEGIN:STANDARD
TZOFFSETFROM:+0200
TZOFFSETTO:+0100
TZNAME:CET
DTSTART:20161030T010000
END:STANDARD
END:VTIMEZONE
BEGIN:VEVENT
DTSTART;TZID=Europe/Warsaw:20160530T180000
DTEND;TZID=Europe/Warsaw:20160530T230000
DTSTAMP:20260420T103034
CREATED:20151125T102042Z
LAST-MODIFIED:20160331T202109Z
UID:94809-1464631200-1464649200@deathmagnetic.pl
SUMMARY:Ghost
DESCRIPTION:99 zł i 129 zł \nCeny biletów: \n99zł (przedsprzedaż) / 129zł (dzień koncertu) dostępne od 27 listopada \nBilety dostępne na stronie Live Nation \n  \n 
URL:https://deathmagnetic.pl/wydarzenie/ghost/
LOCATION:Stodoła\, Batorego 10\, Warszawa\, mazowieckie\, Polska
CATEGORIES:Koncerty,zagraniczne
ATTACH;FMTTYPE=image/jpeg:https://deathmagnetic.pl/wp-content/uploads/2015/11/Ghost.jpg
ORGANIZER;CN="Live%20Nation":MAILTO:info@livenation.pl
GEO:52.2116;21.0101859
X-APPLE-STRUCTURED-LOCATION;VALUE=URI;X-ADDRESS=Stodoła Batorego 10 Warszawa mazowieckie Polska;X-APPLE-RADIUS=500;X-TITLE=Batorego 10:geo:21.0101859,52.2116
END:VEVENT
END:VCALENDAR