BEGIN:VCALENDAR
VERSION:2.0
PRODID:-//Death Magnetic - ECPv5.10.1//NONSGML v1.0//EN
CALSCALE:GREGORIAN
METHOD:PUBLISH
X-WR-CALNAME:Death Magnetic
X-ORIGINAL-URL:https://deathmagnetic.pl
X-WR-CALDESC:Events for Death Magnetic
BEGIN:VTIMEZONE
TZID:Europe/Warsaw
BEGIN:DAYLIGHT
TZOFFSETFROM:+0100
TZOFFSETTO:+0200
TZNAME:CEST
DTSTART:20180325T010000
END:DAYLIGHT
BEGIN:STANDARD
TZOFFSETFROM:+0200
TZOFFSETTO:+0100
TZNAME:CET
DTSTART:20181028T010000
END:STANDARD
END:VTIMEZONE
BEGIN:VEVENT
DTSTART;TZID=Europe/Warsaw:20180426T200000
DTEND;TZID=Europe/Warsaw:20180426T230000
DTSTAMP:20260420T191554
CREATED:20180308T195724Z
LAST-MODIFIED:20180308T195724Z
UID:155638-1524772800-1524783600@deathmagnetic.pl
SUMMARY:Ghost Iris / Fight the Fight / Awake the Dreamer
DESCRIPTION:Takiej dawki nowoczesnego metalu we Wrocławiu dawno nie było!\n3 skandynawskie bandy zawitają już 26 kwietnia do D.K Luksus.\nBilety dostępne na www.furygigs.8merch.com w przedsprzedaży do 24/04/18 w cenie 30zł w dniu koncertu 40zł
URL:https://deathmagnetic.pl/wydarzenie/ghost-iris-fight-the-fight-awake-the-dreamer/
LOCATION:D. K. Luksus\, Wita Stwosza 16\, Wrocław\, Dolnośląskie\, Polska
CATEGORIES:Koncerty,zagraniczne
ATTACH;FMTTYPE=image/jpeg:https://deathmagnetic.pl/wp-content/uploads/2018/03/Plakat-Ghost-Iris.jpg
GEO:51.1095206;17.036741
X-APPLE-STRUCTURED-LOCATION;VALUE=URI;X-ADDRESS=D. K. Luksus Wita Stwosza 16 Wrocław Dolnośląskie Polska;X-APPLE-RADIUS=500;X-TITLE=Wita Stwosza 16:geo:17.036741,51.1095206
END:VEVENT
END:VCALENDAR