BEGIN:VCALENDAR
VERSION:2.0
PRODID:-//Death Magnetic - ECPv5.10.1//NONSGML v1.0//EN
CALSCALE:GREGORIAN
METHOD:PUBLISH
X-WR-CALNAME:Death Magnetic
X-ORIGINAL-URL:https://deathmagnetic.pl
X-WR-CALDESC:Events for Death Magnetic
BEGIN:VTIMEZONE
TZID:Europe/Warsaw
BEGIN:DAYLIGHT
TZOFFSETFROM:+0100
TZOFFSETTO:+0200
TZNAME:CEST
DTSTART:20180325T010000
END:DAYLIGHT
BEGIN:STANDARD
TZOFFSETFROM:+0200
TZOFFSETTO:+0100
TZNAME:CET
DTSTART:20181028T010000
END:STANDARD
END:VTIMEZONE
BEGIN:VEVENT
DTSTART;TZID=Europe/Warsaw:20180319T180000
DTEND;TZID=Europe/Warsaw:20180319T223000
DTSTAMP:20260420T223814
CREATED:20171109T123110Z
LAST-MODIFIED:20171109T123110Z
UID:152333-1521482400-1521498600@deathmagnetic.pl
SUMMARY:G3: Joe Satriani\, John Petrucci\, Uli Jon Roth
DESCRIPTION:Bilety:\npierwsza kategoria cenowa: 159 zł\, sektory – W/Y/C/D\ndruga kategoria cenowa: 189 zł\, sektory – V/U/E/F\ntrzecia kategoria cenowa: 239 zł\, sektory – S1/T1/T/Z/A/B/G/G1/H1\nloża honorowa – 350 zł\nGolden Circle\, miejsca stojące – 299zł\nPłyta\, miejsce stojące – 199zł\n \nBilety kolekcjonerskie dostępne są na www.ticketmaster.pl! \nMiejsca zakupu: www.go-ahead.pl\, www.biletomat.pl\, www.ebilet.pl\,www.ticketpro.pl\, www.ticketmaster.pl oraz sklepy sieci Empik\, Media Markt i Saturn
URL:https://deathmagnetic.pl/wydarzenie/g3-joe-satriani-john-petrucci-uli-jon-roth/
LOCATION:Hala Torwar\, ul. Łazienkowska 6a\, Warszawa\, 00-449\, Polska
CATEGORIES:Koncerty,zagraniczne
ATTACH;FMTTYPE=image/jpeg:https://deathmagnetic.pl/wp-content/uploads/2017/11/g3-koncert-polska-2018.jpg
ORGANIZER;CN="Go%20Ahead":MAILTO:agencja@go-ahead.pl
GEO:52.2222869;21.040508
X-APPLE-STRUCTURED-LOCATION;VALUE=URI;X-ADDRESS=Hala Torwar ul. Łazienkowska 6a Warszawa 00-449 Polska;X-APPLE-RADIUS=500;X-TITLE=ul. Łazienkowska 6a:geo:21.040508,52.2222869
END:VEVENT
END:VCALENDAR