BEGIN:VCALENDAR
VERSION:2.0
PRODID:-//Death Magnetic - ECPv5.10.1//NONSGML v1.0//EN
CALSCALE:GREGORIAN
METHOD:PUBLISH
X-WR-CALNAME:Death Magnetic
X-ORIGINAL-URL:https://deathmagnetic.pl
X-WR-CALDESC:Events for Death Magnetic
BEGIN:VTIMEZONE
TZID:Europe/Warsaw
BEGIN:DAYLIGHT
TZOFFSETFROM:+0100
TZOFFSETTO:+0200
TZNAME:CEST
DTSTART:20160327T010000
END:DAYLIGHT
BEGIN:STANDARD
TZOFFSETFROM:+0200
TZOFFSETTO:+0100
TZNAME:CET
DTSTART:20161030T010000
END:STANDARD
END:VTIMEZONE
BEGIN:VEVENT
DTSTART;TZID=Europe/Warsaw:20160320T190000
DTEND;TZID=Europe/Warsaw:20160320T230000
DTSTAMP:20260420T133347
CREATED:20160209T161254Z
LAST-MODIFIED:20160209T161254Z
UID:97194-1458500400-1458514800@deathmagnetic.pl
SUMMARY:Frontside + Totem
DESCRIPTION:  \nBilety (przedsprzedaż/dzień koncertu): 30/40zł\nBilety dostępne w sieci ticketpro.pl oraz na http://knockoutprod.net/sklep/bilety \n 
URL:https://deathmagnetic.pl/wydarzenie/frontside-totem-3/
LOCATION:Klub Woor\, Plac Wolności 1\, Kielce\, 25-600\, Polska
CATEGORIES:Koncerty,Polskie
ATTACH;FMTTYPE=image/jpeg:https://deathmagnetic.pl/wp-content/uploads/2016/02/FS-T-goście_trasówka.jpg
GEO:50.868316;20.6342019
X-APPLE-STRUCTURED-LOCATION;VALUE=URI;X-ADDRESS=Klub Woor Plac Wolności 1 Kielce 25-600 Polska;X-APPLE-RADIUS=500;X-TITLE=Plac Wolności 1:geo:20.6342019,50.868316
END:VEVENT
END:VCALENDAR