BEGIN:VCALENDAR
VERSION:2.0
PRODID:-//Death Magnetic - ECPv5.10.1//NONSGML v1.0//EN
CALSCALE:GREGORIAN
METHOD:PUBLISH
X-WR-CALNAME:Death Magnetic
X-ORIGINAL-URL:https://deathmagnetic.pl
X-WR-CALDESC:Events for Death Magnetic
BEGIN:VTIMEZONE
TZID:Europe/Warsaw
BEGIN:DAYLIGHT
TZOFFSETFROM:+0100
TZOFFSETTO:+0200
TZNAME:CEST
DTSTART:20160327T010000
END:DAYLIGHT
BEGIN:STANDARD
TZOFFSETFROM:+0200
TZOFFSETTO:+0100
TZNAME:CET
DTSTART:20161030T010000
END:STANDARD
END:VTIMEZONE
BEGIN:VEVENT
DTSTART;TZID=Europe/Warsaw:20161022T200000
DTEND;TZID=Europe/Warsaw:20161022T230000
DTSTAMP:20260421T001921
CREATED:20160609T130111Z
LAST-MODIFIED:20160609T130111Z
UID:101941-1477166400-1477177200@deathmagnetic.pl
SUMMARY:FOLK METAL CRUSADE 2016: Alkonost + SatanaKozel + Black Velvet Band
DESCRIPTION:Bilety kolekcjonerskie są już do nabycia online w przedsprzedaży w cenie 15\,- zł.\nTutaj można zamówić bilety:\nhttp://heartofrockagency.8merch.com/bilety_folk_metal_crusade_2016\nBilety w dniu koncertu bedą do nabycia w klubach w cenie 20 zł.\nPrzedsprzedaż biletów via 8merch wyłącznie do 10.10.2016
URL:https://deathmagnetic.pl/wydarzenie/folk-metal-crusade-2016-alkonost-satanakozel-black-velvet-band-7/
LOCATION:Voodoo Club\, ul. Bema 65\, Warszawa\, 01-244\, Polska
CATEGORIES:Koncerty,zagraniczne
ATTACH;FMTTYPE=image/jpeg:https://deathmagnetic.pl/wp-content/uploads/2016/06/folk-metal-crusade.jpg
ORGANIZER;CN="Heart%20Of%20Rock%20Agency":MAILTO:office@heartofrockagency.com
END:VEVENT
END:VCALENDAR