BEGIN:VCALENDAR
VERSION:2.0
PRODID:-//Death Magnetic - ECPv5.10.1//NONSGML v1.0//EN
CALSCALE:GREGORIAN
METHOD:PUBLISH
X-WR-CALNAME:Death Magnetic
X-ORIGINAL-URL:https://deathmagnetic.pl
X-WR-CALDESC:Events for Death Magnetic
BEGIN:VTIMEZONE
TZID:Europe/Warsaw
BEGIN:DAYLIGHT
TZOFFSETFROM:+0100
TZOFFSETTO:+0200
TZNAME:CEST
DTSTART:20160327T010000
END:DAYLIGHT
BEGIN:STANDARD
TZOFFSETFROM:+0200
TZOFFSETTO:+0100
TZNAME:CET
DTSTART:20161030T010000
END:STANDARD
END:VTIMEZONE
BEGIN:VEVENT
DTSTART;TZID=Europe/Warsaw:20161014T200000
DTEND;TZID=Europe/Warsaw:20161014T230000
DTSTAMP:20260421T054730
CREATED:20160404T140700Z
LAST-MODIFIED:20160404T140700Z
UID:98854-1476475200-1476486000@deathmagnetic.pl
SUMMARY:Folk Metal Crusade 2016
DESCRIPTION:Bilety: 15/20 zł\n\nBilety kolekcjonerskie online:\nhttp://heartofrockagency.8merch.com/\n/14_10_2016_s_upsk_motor_rock_pub_fmc_16-id8459
URL:https://deathmagnetic.pl/wydarzenie/folk-metal-crusade-2016-2/
LOCATION:Motor Rock Pub\, ul. Anny Łajming 3\, Słupsk\, 76-200\, Polska
CATEGORIES:Koncerty,zagraniczne
ATTACH;FMTTYPE=image/jpeg:https://deathmagnetic.pl/wp-content/uploads/2016/04/folk-metal-crusade-2016.jpg
ORGANIZER;CN="Heart%20Of%20Rock%20Agency":MAILTO:office@heartofrockagency.com
END:VEVENT
END:VCALENDAR