BEGIN:VCALENDAR
VERSION:2.0
PRODID:-//Death Magnetic - ECPv5.10.1//NONSGML v1.0//EN
CALSCALE:GREGORIAN
METHOD:PUBLISH
X-WR-CALNAME:Death Magnetic
X-ORIGINAL-URL:https://deathmagnetic.pl
X-WR-CALDESC:Events for Death Magnetic
BEGIN:VTIMEZONE
TZID:Europe/Warsaw
BEGIN:DAYLIGHT
TZOFFSETFROM:+0100
TZOFFSETTO:+0200
TZNAME:CEST
DTSTART:20180325T010000
END:DAYLIGHT
BEGIN:STANDARD
TZOFFSETFROM:+0200
TZOFFSETTO:+0100
TZNAME:CET
DTSTART:20181028T010000
END:STANDARD
END:VTIMEZONE
BEGIN:VEVENT
DTSTART;TZID=Europe/Warsaw:20181130T180000
DTEND;TZID=Europe/Warsaw:20181201T233000
DTSTAMP:20260421T052737
CREATED:20180301T174041Z
LAST-MODIFIED:20180618T095203Z
UID:155565-1543600800-1543707000@deathmagnetic.pl
SUMMARY:FOAD FEST II
DESCRIPTION:Dotychczas zapowiedziane zespoły: Infernal War\, Witchmaster\, Kzohh\, Aborym\, Hate\, Ragehammer\, Moloch Letalis\, Above Aurora\, ROSK\, Cień \nBilety: \n– bilet jednodniowy 60zł\n– bilet dwudniowy 110zł\n– w dniu koncertu: 70 zł \nBilety obecnie do nabycia na:\nhttp://foadconcept.8merch.com/ \nhttps://www.shop.oldtemple.com/\noraz poprzez zgłoszenie mailowe na foadconcept@gmail.com \nWejściówki do odbioru na bramce przy wejściu na koncert. Kolejne ogłoszenia już wkrótce.
URL:https://deathmagnetic.pl/wydarzenie/foad-fest-ii/
LOCATION:Zet Pe Te\, Dolnych Młynów 10\, Kraków \, małopolskie \, Polska
CATEGORIES:Festiwale
ATTACH;FMTTYPE=image/jpeg:https://deathmagnetic.pl/wp-content/uploads/2018/04/Foad-fest-2-banner-.jpg
GEO:50.064495;19.9273919
X-APPLE-STRUCTURED-LOCATION;VALUE=URI;X-ADDRESS=Zet Pe Te Dolnych Młynów 10 Kraków  małopolskie  Polska;X-APPLE-RADIUS=500;X-TITLE=Dolnych Młynów 10:geo:19.9273919,50.064495
END:VEVENT
END:VCALENDAR