BEGIN:VCALENDAR
VERSION:2.0
PRODID:-//Death Magnetic - ECPv5.10.1//NONSGML v1.0//EN
CALSCALE:GREGORIAN
METHOD:PUBLISH
X-WR-CALNAME:Death Magnetic
X-ORIGINAL-URL:https://deathmagnetic.pl
X-WR-CALDESC:Events for Death Magnetic
BEGIN:VTIMEZONE
TZID:Europe/Warsaw
BEGIN:DAYLIGHT
TZOFFSETFROM:+0100
TZOFFSETTO:+0200
TZNAME:CEST
DTSTART:20150329T010000
END:DAYLIGHT
BEGIN:STANDARD
TZOFFSETFROM:+0200
TZOFFSETTO:+0100
TZNAME:CET
DTSTART:20151025T010000
END:STANDARD
END:VTIMEZONE
BEGIN:VEVENT
DTSTART;TZID=Europe/Warsaw:20151116T190000
DTEND;TZID=Europe/Warsaw:20151116T230000
DTSTAMP:20260421T052854
CREATED:20150930T160813Z
LAST-MODIFIED:20150930T160813Z
UID:92678-1447700400-1447714800@deathmagnetic.pl
SUMMARY:Fleshgore + Katastrof + Ravage Campaig
DESCRIPTION:  \nKlub szuka supportu. Zgłoszenia na: poli@rudeboyclub.pl \nCeny biletów: \n15 zł – przedsprzedaż\n20 zł – w dniu koncertu \nBilety dostępne m.in. na stronie klubu Rudeboy.
URL:https://deathmagnetic.pl/wydarzenie/fleshgore-katastrof-ravage-campaig/
LOCATION:Rudeboy Club\, 1 maja 20\, Bielsko-Biała\, 43-300\, Polska
CATEGORIES:Koncerty,zagraniczne
ATTACH;FMTTYPE=image/jpeg:https://deathmagnetic.pl/wp-content/uploads/2015/09/Fleshgore.jpg
GEO:49.817453;19.0456459
X-APPLE-STRUCTURED-LOCATION;VALUE=URI;X-ADDRESS=Rudeboy Club 1 maja 20 Bielsko-Biała 43-300 Polska;X-APPLE-RADIUS=500;X-TITLE=1 maja 20:geo:19.0456459,49.817453
END:VEVENT
END:VCALENDAR