BEGIN:VCALENDAR
VERSION:2.0
PRODID:-//Death Magnetic - ECPv5.10.1//NONSGML v1.0//EN
CALSCALE:GREGORIAN
METHOD:PUBLISH
X-WR-CALNAME:Death Magnetic
X-ORIGINAL-URL:https://deathmagnetic.pl
X-WR-CALDESC:Events for Death Magnetic
BEGIN:VTIMEZONE
TZID:Europe/Warsaw
BEGIN:DAYLIGHT
TZOFFSETFROM:+0100
TZOFFSETTO:+0200
TZNAME:CEST
DTSTART:20160327T010000
END:DAYLIGHT
BEGIN:STANDARD
TZOFFSETFROM:+0200
TZOFFSETTO:+0100
TZNAME:CET
DTSTART:20161030T010000
END:STANDARD
END:VTIMEZONE
BEGIN:VEVENT
DTSTART;TZID=Europe/Warsaw:20161015T190000
DTEND;TZID=Europe/Warsaw:20161015T230000
DTSTAMP:20260420T150615
CREATED:20160913T211646Z
LAST-MODIFIED:20160913T211646Z
UID:105586-1476558000-1476572400@deathmagnetic.pl
SUMMARY:Farben Lehre + the Analogs + Diversity
DESCRIPTION:Bilety w cenie: \n35 zł (przedsprzedaż)\, 40 zł (w dniu koncertu) \nBilety można nabyć przez stronę internetową klubu w dziale KUP BILET\, a także w stałych punktach przedsprzedaży i klubie Rudeboy.
URL:https://deathmagnetic.pl/wydarzenie/farben-lehre-the-analogs-diversity/
LOCATION:Rudeboy Club\, 1 maja 20\, Bielsko-Biała\, 43-300\, Polska
CATEGORIES:Koncerty,Polskie
ATTACH;FMTTYPE=image/jpeg:https://deathmagnetic.pl/wp-content/uploads/2016/09/Farben-lehre.jpg
GEO:49.817453;19.0456459
X-APPLE-STRUCTURED-LOCATION;VALUE=URI;X-ADDRESS=Rudeboy Club 1 maja 20 Bielsko-Biała 43-300 Polska;X-APPLE-RADIUS=500;X-TITLE=1 maja 20:geo:19.0456459,49.817453
END:VEVENT
END:VCALENDAR