BEGIN:VCALENDAR
VERSION:2.0
PRODID:-//Death Magnetic - ECPv5.10.1//NONSGML v1.0//EN
CALSCALE:GREGORIAN
METHOD:PUBLISH
X-WR-CALNAME:Death Magnetic
X-ORIGINAL-URL:https://deathmagnetic.pl
X-WR-CALDESC:Events for Death Magnetic
BEGIN:VTIMEZONE
TZID:Europe/Warsaw
BEGIN:DAYLIGHT
TZOFFSETFROM:+0100
TZOFFSETTO:+0200
TZNAME:CEST
DTSTART:20150329T010000
END:DAYLIGHT
BEGIN:STANDARD
TZOFFSETFROM:+0200
TZOFFSETTO:+0100
TZNAME:CET
DTSTART:20151025T010000
END:STANDARD
END:VTIMEZONE
BEGIN:VEVENT
DTSTART;TZID=Europe/Warsaw:20150608T200000
DTEND;TZID=Europe/Warsaw:20150608T230000
DTSTAMP:20260421T074839
CREATED:20150224T184420Z
LAST-MODIFIED:20150601T183949Z
UID:74102-1433793600-1433804400@deathmagnetic.pl
SUMMARY:Faith No More + Speculum + Dubioza Kolektiv
DESCRIPTION:Ceny biletów (przedsprzedaż / w dniu koncertu): \n– Płyta: 199zł / 219zł \n– Płyta Golden Circle:  350zł / 370zł \n– Płyta Golden Circle – Early Entrance: 450zł / 470zł \n– Kategoria I – siedzące: 270zł / 290zł \n– Kategoria II – siedzące: 210zł / 230zł \n– Siedzące Premium: 700zł / 720zł \nBilety dostępne na:\nMetalmind\, Ticketpro\, Eventim\, Ebilet\, Biletin i TicketPortal \nOtwarcie bram: 18:30\nStart: 20:00
URL:https://deathmagnetic.pl/wydarzenie/faith-no-more-speculum-dubioza-kolektiv/
LOCATION:Tauron Arena\, Stanisława Lema\, Kraków
CATEGORIES:Koncerty,zagraniczne
ATTACH;FMTTYPE=image/jpeg:https://deathmagnetic.pl/wp-content/uploads/2015/02/Faith-No-More.jpg
ORGANIZER;CN="Metal%20Mind%20Productions":MAILTO:office1@metalmind.com.pl
GEO:50.0687315;19.9879114
X-APPLE-STRUCTURED-LOCATION;VALUE=URI;X-ADDRESS=Tauron Arena Stanisława Lema Kraków;X-APPLE-RADIUS=500;X-TITLE=Stanisława Lema:geo:19.9879114,50.0687315
END:VEVENT
END:VCALENDAR