BEGIN:VCALENDAR
VERSION:2.0
PRODID:-//Death Magnetic - ECPv5.10.1//NONSGML v1.0//EN
CALSCALE:GREGORIAN
METHOD:PUBLISH
X-WR-CALNAME:Death Magnetic
X-ORIGINAL-URL:https://deathmagnetic.pl
X-WR-CALDESC:Events for Death Magnetic
BEGIN:VTIMEZONE
TZID:Europe/Warsaw
BEGIN:DAYLIGHT
TZOFFSETFROM:+0100
TZOFFSETTO:+0200
TZNAME:CEST
DTSTART:20160327T010000
END:DAYLIGHT
BEGIN:STANDARD
TZOFFSETFROM:+0200
TZOFFSETTO:+0100
TZNAME:CET
DTSTART:20161030T010000
END:STANDARD
END:VTIMEZONE
BEGIN:VEVENT
DTSTART;TZID=Europe/Warsaw:20161019T200000
DTEND;TZID=Europe/Warsaw:20161019T230000
DTSTAMP:20260420T222011
CREATED:20160405T151203Z
LAST-MODIFIED:20160405T151203Z
UID:98880-1476907200-1476918000@deathmagnetic.pl
SUMMARY:EXPLOSIONS IN THE SKY
DESCRIPTION:Przedsprzedaż biletów: \nOd 8.04 (piątek) przedsprzedaż ogólna wystartuje na stroniewww.pwevents.pl i w systemach ticketpro.pl\, eventim.pl\, biletomat.pl\, ebilet.pl oraz w salonach sieci Empik\, Media Markt i Saturn.\nCeny biletów: info wkrótce. \nOd dzisiaj przedsprzedaż jest dostępna wyłącznie na platformieSongkick.com w cenie 112zł.
URL:https://deathmagnetic.pl/wydarzenie/explosions-in-the-sky/
LOCATION:Progresja\, Fort Wola 22\, Warszawa\, Polska
CATEGORIES:Koncerty,zagraniczne
ATTACH;FMTTYPE=image/jpeg:https://deathmagnetic.pl/wp-content/uploads/2016/04/Explosions_in_the_Sky_koncert.jpg
ORGANIZER;CN="P.W.%20Events":MAILTO:piotr@pwevents.pl
GEO:52.224827;20.9287
X-APPLE-STRUCTURED-LOCATION;VALUE=URI;X-ADDRESS=Progresja Fort Wola 22 Warszawa Polska;X-APPLE-RADIUS=500;X-TITLE=Fort Wola 22:geo:20.9287,52.224827
END:VEVENT
END:VCALENDAR