BEGIN:VCALENDAR
VERSION:2.0
PRODID:-//Death Magnetic - ECPv5.10.1//NONSGML v1.0//EN
CALSCALE:GREGORIAN
METHOD:PUBLISH
X-WR-CALNAME:Death Magnetic
X-ORIGINAL-URL:https://deathmagnetic.pl
X-WR-CALDESC:Events for Death Magnetic
BEGIN:VTIMEZONE
TZID:Europe/Warsaw
BEGIN:DAYLIGHT
TZOFFSETFROM:+0100
TZOFFSETTO:+0200
TZNAME:CEST
DTSTART:20160327T010000
END:DAYLIGHT
BEGIN:STANDARD
TZOFFSETFROM:+0200
TZOFFSETTO:+0100
TZNAME:CET
DTSTART:20161030T010000
END:STANDARD
END:VTIMEZONE
BEGIN:VEVENT
DTSTART;TZID=Europe/Warsaw:20161016T190000
DTEND;TZID=Europe/Warsaw:20161016T230000
DTSTAMP:20260421T124508
CREATED:20160725T181126Z
LAST-MODIFIED:20160913T212004Z
UID:103973-1476644400-1476658800@deathmagnetic.pl
SUMMARY:Exlibris & ThermiT + Forces of Sodomy
DESCRIPTION:Zespól Moanaa zaprezentuje – po raz pierwszy – w całości materiał z LP „Passage”! \nBilety w cenie: \n20 zł (przedsprzedaż)\, 30 zł (w dniu koncertu) \nBilety można nabyć przez stronę internetową klubu w dziale KUP BILET\, a także w stałych punktach przedsprzedaży i klubie Rudeboy.
URL:https://deathmagnetic.pl/wydarzenie/exlibris-thermit-forces-of-sodomy-3/
LOCATION:Rudeboy Club\, 1 maja 20\, Bielsko-Biała\, 43-300\, Polska
CATEGORIES:Koncerty,Polskie
ATTACH;FMTTYPE=image/png:https://deathmagnetic.pl/wp-content/uploads/2016/07/exlibris-thermit.png
GEO:49.817453;19.0456459
X-APPLE-STRUCTURED-LOCATION;VALUE=URI;X-ADDRESS=Rudeboy Club 1 maja 20 Bielsko-Biała 43-300 Polska;X-APPLE-RADIUS=500;X-TITLE=1 maja 20:geo:19.0456459,49.817453
END:VEVENT
END:VCALENDAR