BEGIN:VCALENDAR
VERSION:2.0
PRODID:-//Death Magnetic - ECPv5.10.1//NONSGML v1.0//EN
CALSCALE:GREGORIAN
METHOD:PUBLISH
X-WR-CALNAME:Death Magnetic
X-ORIGINAL-URL:https://deathmagnetic.pl
X-WR-CALDESC:Events for Death Magnetic
BEGIN:VTIMEZONE
TZID:Europe/Warsaw
BEGIN:DAYLIGHT
TZOFFSETFROM:+0100
TZOFFSETTO:+0200
TZNAME:CEST
DTSTART:20150329T010000
END:DAYLIGHT
BEGIN:STANDARD
TZOFFSETFROM:+0200
TZOFFSETTO:+0100
TZNAME:CET
DTSTART:20151025T010000
END:STANDARD
END:VTIMEZONE
BEGIN:VEVENT
DTSTART;TZID=Europe/Warsaw:20150627T200000
DTEND;TZID=Europe/Warsaw:20150627T230000
DTSTAMP:20260421T003003
CREATED:20150611T124640Z
LAST-MODIFIED:20150611T124640Z
UID:86154-1435435200-1435446000@deathmagnetic.pl
SUMMARY:Exkyussme + Stonerror + Mothers In Furs
DESCRIPTION:Start: 20:00
URL:https://deathmagnetic.pl/wydarzenie/exkyussme-stonerror-mothers-in-furs/
LOCATION:Piękny Pies\, ul. Bożego Ciała 9\, Kraków\, 31-059\, Polska
CATEGORIES:Koncerty
ATTACH;FMTTYPE=image/png:https://deathmagnetic.pl/wp-content/uploads/2015/06/exkyussme.png
GEO:50.0514529;19.943253
X-APPLE-STRUCTURED-LOCATION;VALUE=URI;X-ADDRESS=Piękny Pies ul. Bożego Ciała 9 Kraków 31-059 Polska;X-APPLE-RADIUS=500;X-TITLE=ul. Bożego Ciała 9:geo:19.943253,50.0514529
END:VEVENT
END:VCALENDAR