BEGIN:VCALENDAR
VERSION:2.0
PRODID:-//Death Magnetic - ECPv5.10.1//NONSGML v1.0//EN
CALSCALE:GREGORIAN
METHOD:PUBLISH
X-WR-CALNAME:Death Magnetic
X-ORIGINAL-URL:https://deathmagnetic.pl
X-WR-CALDESC:Events for Death Magnetic
BEGIN:VTIMEZONE
TZID:Europe/Warsaw
BEGIN:DAYLIGHT
TZOFFSETFROM:+0100
TZOFFSETTO:+0200
TZNAME:CEST
DTSTART:20160327T010000
END:DAYLIGHT
BEGIN:STANDARD
TZOFFSETFROM:+0200
TZOFFSETTO:+0100
TZNAME:CET
DTSTART:20161030T010000
END:STANDARD
END:VTIMEZONE
BEGIN:VEVENT
DTSTART;TZID=Europe/Warsaw:20160928T180000
DTEND;TZID=Europe/Warsaw:20160928T230000
DTSTAMP:20260420T223442
CREATED:20160609T083920Z
LAST-MODIFIED:20160609T083920Z
UID:101860-1475085600-1475103600@deathmagnetic.pl
SUMMARY:Equilibrium + Heidevolk
DESCRIPTION:Bilety: 80 zł – przedsprzedaż; 90 zł \nBilety kolekcjonerskie:\nhttp://knockoutprod.net/sklep/ \nOraz:\nTicketpro\nEventim
URL:https://deathmagnetic.pl/wydarzenie/equilibrium-heidevolk/
LOCATION:Klub Kwadrat\, Stanisława Skarżyńskiego 1\, Kraków\, 31 - 866\, Polska
CATEGORIES:Koncerty,zagraniczne
ATTACH;FMTTYPE=image/jpeg:https://deathmagnetic.pl/wp-content/uploads/2016/06/Equilibrium.jpg
ORGANIZER;CN="KnockOut%20Productions":MAILTO:info@knockoutprod.net
GEO:50.083983;19.9961079
X-APPLE-STRUCTURED-LOCATION;VALUE=URI;X-ADDRESS=Klub Kwadrat Stanisława Skarżyńskiego 1 Kraków 31 - 866 Polska;X-APPLE-RADIUS=500;X-TITLE=Stanisława Skarżyńskiego 1:geo:19.9961079,50.083983
END:VEVENT
END:VCALENDAR