BEGIN:VCALENDAR
VERSION:2.0
PRODID:-//Death Magnetic - ECPv5.10.1//NONSGML v1.0//EN
CALSCALE:GREGORIAN
METHOD:PUBLISH
X-WR-CALNAME:Death Magnetic
X-ORIGINAL-URL:https://deathmagnetic.pl
X-WR-CALDESC:Events for Death Magnetic
BEGIN:VTIMEZONE
TZID:Europe/Warsaw
BEGIN:DAYLIGHT
TZOFFSETFROM:+0100
TZOFFSETTO:+0200
TZNAME:CEST
DTSTART:20150329T010000
END:DAYLIGHT
BEGIN:STANDARD
TZOFFSETFROM:+0200
TZOFFSETTO:+0100
TZNAME:CET
DTSTART:20151025T010000
END:STANDARD
END:VTIMEZONE
BEGIN:VEVENT
DTSTART;TZID=Europe/Warsaw:20150927T200000
DTEND;TZID=Europe/Warsaw:20150927T230000
DTSTAMP:20260421T053804
CREATED:20150913T123758Z
LAST-MODIFIED:20150913T123758Z
UID:91581-1443384000-1443394800@deathmagnetic.pl
SUMMARY:ENTER SHIKARI + Hacktivist
DESCRIPTION:Rozkład jazdy: \n19.00 – drzwi\n19.50 – Hacktivist\n21.00 – Enter Shikari \nBILETY:\n69 zł (http://pwevents.pl/pl/bilety\,1\,271.html) / 79 zł (przedsprzedaż) / 90 zł\n\nSprzedaż biletów od 8 lipca od godziny 8:00.
URL:https://deathmagnetic.pl/wydarzenie/enter-shikari-hacktivist-2/
LOCATION:Klub Muzyczny Parlament\, Św. Ducha 2\, Gdańsk\, 80-834\, Polska
CATEGORIES:Koncerty,zagraniczne
ATTACH;FMTTYPE=image/jpeg:https://deathmagnetic.pl/wp-content/uploads/2015/09/Enter-Shikari-Gdańsk.jpg
ORGANIZER;CN="Go%20Ahead":MAILTO:agencja@go-ahead.pl
END:VEVENT
END:VCALENDAR