BEGIN:VCALENDAR
VERSION:2.0
PRODID:-//Death Magnetic - ECPv5.10.1//NONSGML v1.0//EN
CALSCALE:GREGORIAN
METHOD:PUBLISH
X-WR-CALNAME:Death Magnetic
X-ORIGINAL-URL:https://deathmagnetic.pl
X-WR-CALDESC:Events for Death Magnetic
BEGIN:VTIMEZONE
TZID:Europe/Warsaw
BEGIN:DAYLIGHT
TZOFFSETFROM:+0100
TZOFFSETTO:+0200
TZNAME:CEST
DTSTART:20180325T010000
END:DAYLIGHT
BEGIN:STANDARD
TZOFFSETFROM:+0200
TZOFFSETTO:+0100
TZNAME:CET
DTSTART:20181028T010000
END:STANDARD
END:VTIMEZONE
BEGIN:VEVENT
DTSTART;TZID=Europe/Warsaw:20180411T190000
DTEND;TZID=Europe/Warsaw:20180411T230000
DTSTAMP:20260420T221941
CREATED:20171221T162842Z
LAST-MODIFIED:20171221T162842Z
UID:154019-1523473200-1523487600@deathmagnetic.pl
SUMMARY:Ensiferum + Ex Deo
DESCRIPTION:Bilety:\n80 zł https://pwevents.pl/bilety/ensiferum-ex-deo/573/122\n85 zł Ticketpro\, Eventim\, Ebilet\, Biletomat.pl\,\n90 zł w dniu koncertu \n 
URL:https://deathmagnetic.pl/wydarzenie/ensiferum-ex-deo-3/
LOCATION:MegaClub\,  ul. Żelazna 15\, Katowice\, Polska
CATEGORIES:Koncerty,zagraniczne
ATTACH;FMTTYPE=image/jpeg:https://deathmagnetic.pl/wp-content/uploads/2017/12/Ensiferum-Ex-Deo.jpg
ORGANIZER;CN="P.W.%20Events":MAILTO:piotr@pwevents.pl
GEO:50.2641959;19.0057694
X-APPLE-STRUCTURED-LOCATION;VALUE=URI;X-ADDRESS=MegaClub  ul. Żelazna 15 Katowice Polska;X-APPLE-RADIUS=500;X-TITLE=ul. Żelazna 15:geo:19.0057694,50.2641959
END:VEVENT
END:VCALENDAR