BEGIN:VCALENDAR
VERSION:2.0
PRODID:-//Death Magnetic - ECPv5.10.1//NONSGML v1.0//EN
CALSCALE:GREGORIAN
METHOD:PUBLISH
X-WR-CALNAME:Death Magnetic
X-ORIGINAL-URL:https://deathmagnetic.pl
X-WR-CALDESC:Events for Death Magnetic
BEGIN:VTIMEZONE
TZID:Europe/Warsaw
BEGIN:DAYLIGHT
TZOFFSETFROM:+0100
TZOFFSETTO:+0200
TZNAME:CEST
DTSTART:20170326T010000
END:DAYLIGHT
BEGIN:STANDARD
TZOFFSETFROM:+0200
TZOFFSETTO:+0100
TZNAME:CET
DTSTART:20171029T010000
END:STANDARD
END:VTIMEZONE
BEGIN:VEVENT
DTSTART;TZID=Europe/Warsaw:20171014T200000
DTEND;TZID=Europe/Warsaw:20171014T220000
DTSTAMP:20260421T092017
CREATED:20170327T220100Z
LAST-MODIFIED:20170924T115201Z
UID:114054-1508011200-1508018400@deathmagnetic.pl
SUMMARY:Ennio Morricone
DESCRIPTION: Bilety na to wydarzenie będzie można nabywać za pośrednictwem stron: www.prestigemjm.com\, eBilet.pl oraz w sieci salonów Empik.
URL:https://deathmagnetic.pl/wydarzenie/ennio-morricone-2/
LOCATION:Atlas Arena\, al. Bandurskiego 7\, Łódź\, Polska
CATEGORIES:Koncerty,zagraniczne
ATTACH;FMTTYPE=image/jpeg:https://deathmagnetic.pl/wp-content/uploads/2017/03/Ennio_Morricone_koncert.jpg
ORGANIZER;CN="Prestige%20MJM":MAILTO:biuro@imprezyprestige.com
GEO:51.7570376;19.4251408
X-APPLE-STRUCTURED-LOCATION;VALUE=URI;X-ADDRESS=Atlas Arena al. Bandurskiego 7 Łódź Polska;X-APPLE-RADIUS=500;X-TITLE=al. Bandurskiego 7:geo:19.4251408,51.7570376
END:VEVENT
END:VCALENDAR