BEGIN:VCALENDAR
VERSION:2.0
PRODID:-//Death Magnetic - ECPv5.10.1//NONSGML v1.0//EN
CALSCALE:GREGORIAN
METHOD:PUBLISH
X-WR-CALNAME:Death Magnetic
X-ORIGINAL-URL:https://deathmagnetic.pl
X-WR-CALDESC:Events for Death Magnetic
BEGIN:VTIMEZONE
TZID:Europe/Warsaw
BEGIN:DAYLIGHT
TZOFFSETFROM:+0100
TZOFFSETTO:+0200
TZNAME:CEST
DTSTART:20150329T010000
END:DAYLIGHT
BEGIN:STANDARD
TZOFFSETFROM:+0200
TZOFFSETTO:+0100
TZNAME:CET
DTSTART:20151025T010000
END:STANDARD
END:VTIMEZONE
BEGIN:VEVENT
DTSTART;TZID=Europe/Warsaw:20150322T190000
DTEND;TZID=Europe/Warsaw:20150322T230000
DTSTAMP:20260421T074111
CREATED:20150309T164653Z
LAST-MODIFIED:20150309T164653Z
UID:75456-1427050800-1427065200@deathmagnetic.pl
SUMMARY:Enej + Poparzeni Kawą Trzy
DESCRIPTION:Ceny biletów: \nPrzedsprzedaż: \n– bilety ulgowe: 35 zł\, \n– bilety normalne: 40 zł; \nW  dniu koncertu: \n– bilety ulgowe: 40 zł\, \n– bilety normalne: 45 zł \nBilety dostępne na: \nEkobilet
URL:https://deathmagnetic.pl/wydarzenie/enej-poparzeni-kawa-trzy/
LOCATION:Wytwórnia\, Łąkowa 29\, Łódź
CATEGORIES:Koncerty,Polskie
ATTACH;FMTTYPE=image/jpeg:https://deathmagnetic.pl/wp-content/uploads/2015/03/Enej.jpg
GEO:51.757883;19.443701
X-APPLE-STRUCTURED-LOCATION;VALUE=URI;X-ADDRESS=Wytwórnia Łąkowa 29 Łódź;X-APPLE-RADIUS=500;X-TITLE=Łąkowa 29:geo:19.443701,51.757883
END:VEVENT
END:VCALENDAR