BEGIN:VCALENDAR
VERSION:2.0
PRODID:-//Death Magnetic - ECPv5.10.1//NONSGML v1.0//EN
CALSCALE:GREGORIAN
METHOD:PUBLISH
X-WR-CALNAME:Death Magnetic
X-ORIGINAL-URL:https://deathmagnetic.pl
X-WR-CALDESC:Events for Death Magnetic
BEGIN:VTIMEZONE
TZID:Europe/Warsaw
BEGIN:DAYLIGHT
TZOFFSETFROM:+0100
TZOFFSETTO:+0200
TZNAME:CEST
DTSTART:20170326T010000
END:DAYLIGHT
BEGIN:STANDARD
TZOFFSETFROM:+0200
TZOFFSETTO:+0100
TZNAME:CET
DTSTART:20171029T010000
END:STANDARD
END:VTIMEZONE
BEGIN:VEVENT
DTSTART;TZID=Europe/Warsaw:20170211T190000
DTEND;TZID=Europe/Warsaw:20170211T230000
DTSTAMP:20260421T002717
CREATED:20161205T191058Z
LAST-MODIFIED:20161205T191058Z
UID:109274-1486839600-1486854000@deathmagnetic.pl
SUMMARY:Embrional + Heaving Earth + Planet Hell + Spatial
DESCRIPTION:Embrional & Mork Stork Production prezentują: “Symphony of Death” \nZagrają:\nEmbrional – Death metal (pl)\nHeaving Earth – Death Metal (cz)\nPlanet Hell – Death metal (pl)\nSpatial – Metal (pl)\n\nBILETY w cenie 25 PLN (przedsprzedaż) / 30 PLN (w dniu koncertu)\n \nBilety można nabyć na stronie klubu Rudeboy w dziale KUP BILET\, a także w samym klubie oraz jego stałych punktach przedsprzedaży.
URL:https://deathmagnetic.pl/wydarzenie/embrional-heaving-earth-planet-hell-spatial/
LOCATION:Rudeboy Club\, 1 maja 20\, Bielsko-Biała\, 43-300\, Polska
CATEGORIES:Koncerty,Polskie
ATTACH;FMTTYPE=image/jpeg:https://deathmagnetic.pl/wp-content/uploads/2016/12/Symphony-of-death.jpg
GEO:49.817453;19.0456459
X-APPLE-STRUCTURED-LOCATION;VALUE=URI;X-ADDRESS=Rudeboy Club 1 maja 20 Bielsko-Biała 43-300 Polska;X-APPLE-RADIUS=500;X-TITLE=1 maja 20:geo:19.0456459,49.817453
END:VEVENT
END:VCALENDAR