BEGIN:VCALENDAR
VERSION:2.0
PRODID:-//Death Magnetic - ECPv5.10.1//NONSGML v1.0//EN
CALSCALE:GREGORIAN
METHOD:PUBLISH
X-WR-CALNAME:Death Magnetic
X-ORIGINAL-URL:https://deathmagnetic.pl
X-WR-CALDESC:Events for Death Magnetic
BEGIN:VTIMEZONE
TZID:Europe/Warsaw
BEGIN:DAYLIGHT
TZOFFSETFROM:+0100
TZOFFSETTO:+0200
TZNAME:CEST
DTSTART:20160327T010000
END:DAYLIGHT
BEGIN:STANDARD
TZOFFSETFROM:+0200
TZOFFSETTO:+0100
TZNAME:CET
DTSTART:20161030T010000
END:STANDARD
END:VTIMEZONE
BEGIN:VEVENT
DTSTART;TZID=Europe/Warsaw:20160809T200000
DTEND;TZID=Europe/Warsaw:20160809T220000
DTSTAMP:20260420T175955
CREATED:20150706T120310Z
LAST-MODIFIED:20160531T191519Z
UID:87644-1470772800-1470780000@deathmagnetic.pl
SUMMARY:Eagles of Death Metal
DESCRIPTION:  \nCeny biletów:\n95 PLN (http://pwevents.pl/pl/bilety\,1\,316.html)\n105 PLN Ticketpro\, Eventim\, Ebilet\, Biletomat.pl\, Mega Club\, sklep muzyczny All (ul. Mickiewicza 14)\n115 PLN w dniu koncertu
URL:https://deathmagnetic.pl/wydarzenie/eagles-of-death-metal/
LOCATION:MegaClub\,  ul. Żelazna 15\, Katowice\, Polska
CATEGORIES:Koncerty,zagraniczne
ATTACH;FMTTYPE=image/jpeg:https://deathmagnetic.pl/wp-content/uploads/2015/07/eodm.jpg
ORGANIZER;CN="P.W.%20Events":MAILTO:piotr@pwevents.pl
GEO:50.2641959;19.0057694
X-APPLE-STRUCTURED-LOCATION;VALUE=URI;X-ADDRESS=MegaClub  ul. Żelazna 15 Katowice Polska;X-APPLE-RADIUS=500;X-TITLE=ul. Żelazna 15:geo:19.0057694,50.2641959
END:VEVENT
END:VCALENDAR