BEGIN:VCALENDAR
VERSION:2.0
PRODID:-//Death Magnetic - ECPv5.10.1//NONSGML v1.0//EN
CALSCALE:GREGORIAN
METHOD:PUBLISH
X-WR-CALNAME:Death Magnetic
X-ORIGINAL-URL:https://deathmagnetic.pl
X-WR-CALDESC:Events for Death Magnetic
BEGIN:VTIMEZONE
TZID:Europe/Warsaw
BEGIN:DAYLIGHT
TZOFFSETFROM:+0100
TZOFFSETTO:+0200
TZNAME:CEST
DTSTART:20170326T010000
END:DAYLIGHT
BEGIN:STANDARD
TZOFFSETFROM:+0200
TZOFFSETTO:+0100
TZNAME:CET
DTSTART:20171029T010000
END:STANDARD
END:VTIMEZONE
BEGIN:VEVENT
DTSTART;TZID=Europe/Warsaw:20171119T193000
DTEND;TZID=Europe/Warsaw:20171119T230000
DTSTAMP:20260421T053534
CREATED:20171114T154048Z
LAST-MODIFIED:20171114T154107Z
UID:152506-1511119800-1511132400@deathmagnetic.pl
SUMMARY:Dormant Dissident + Basileus
DESCRIPTION:Koncert promujący album „Knightmares” Dormant Dissident. \nWstęp: 10 PLN\nGodzina: 19:30 \n 
URL:https://deathmagnetic.pl/wydarzenie/dormant-dissident-basileus/
LOCATION:Schemat\, ul. Szwoleżerów 1/2\, Szczecin\, Polska
CATEGORIES:Koncerty,Polskie
ATTACH;FMTTYPE=image/jpeg:https://deathmagnetic.pl/wp-content/uploads/2017/11/DD-Szczecin.jpg
GEO:53.4202088;14.5322845
X-APPLE-STRUCTURED-LOCATION;VALUE=URI;X-ADDRESS=Schemat ul. Szwoleżerów 1/2 Szczecin Polska;X-APPLE-RADIUS=500;X-TITLE=ul. Szwoleżerów 1/2:geo:14.5322845,53.4202088
END:VEVENT
END:VCALENDAR