BEGIN:VCALENDAR
VERSION:2.0
PRODID:-//Death Magnetic - ECPv5.10.1//NONSGML v1.0//EN
CALSCALE:GREGORIAN
METHOD:PUBLISH
X-WR-CALNAME:Death Magnetic
X-ORIGINAL-URL:https://deathmagnetic.pl
X-WR-CALDESC:Events for Death Magnetic
BEGIN:VTIMEZONE
TZID:Europe/Warsaw
BEGIN:DAYLIGHT
TZOFFSETFROM:+0100
TZOFFSETTO:+0200
TZNAME:CEST
DTSTART:20150329T010000
END:DAYLIGHT
BEGIN:STANDARD
TZOFFSETFROM:+0200
TZOFFSETTO:+0100
TZNAME:CET
DTSTART:20151025T010000
END:STANDARD
END:VTIMEZONE
BEGIN:VEVENT
DTSTART;TZID=Europe/Warsaw:20150518T183000
DTEND;TZID=Europe/Warsaw:20150518T230000
DTSTAMP:20260420T062111
CREATED:20150219T163222Z
LAST-MODIFIED:20150225T153512Z
UID:73120-1431973800-1431990000@deathmagnetic.pl
SUMMARY:Dir En Grey
DESCRIPTION:Ceny biletów (przedsprzedaż / w dniu koncertu): \n110zł / 130zł \nBilety dostępne m.in. na stronie Knockout Production.\nMetalmind\, Ticketpro\, Eventim\, Ebilet\, Biletin i TicketPortal \n  \n 
URL:https://deathmagnetic.pl/wydarzenie/dir-en-grey/
LOCATION:Progresja\, Fort Wola 22\, Warszawa\, Polska
CATEGORIES:Koncerty,zagraniczne
ATTACH;FMTTYPE=image/jpeg:https://deathmagnetic.pl/wp-content/uploads/2015/02/Dir-En-Grey.jpg
ORGANIZER;CN="KnockOut%20Productions":MAILTO:info@knockoutprod.net
GEO:52.224827;20.9287
X-APPLE-STRUCTURED-LOCATION;VALUE=URI;X-ADDRESS=Progresja Fort Wola 22 Warszawa Polska;X-APPLE-RADIUS=500;X-TITLE=Fort Wola 22:geo:20.9287,52.224827
END:VEVENT
END:VCALENDAR