BEGIN:VCALENDAR
VERSION:2.0
PRODID:-//Death Magnetic - ECPv5.10.1//NONSGML v1.0//EN
CALSCALE:GREGORIAN
METHOD:PUBLISH
X-WR-CALNAME:Death Magnetic
X-ORIGINAL-URL:https://deathmagnetic.pl
X-WR-CALDESC:Events for Death Magnetic
BEGIN:VTIMEZONE
TZID:Europe/Warsaw
BEGIN:DAYLIGHT
TZOFFSETFROM:+0100
TZOFFSETTO:+0200
TZNAME:CEST
DTSTART:20150329T010000
END:DAYLIGHT
BEGIN:STANDARD
TZOFFSETFROM:+0200
TZOFFSETTO:+0100
TZNAME:CET
DTSTART:20151025T010000
END:STANDARD
END:VTIMEZONE
BEGIN:VEVENT
DTSTART;TZID=Europe/Warsaw:20150318T190000
DTEND;TZID=Europe/Warsaw:20150318T230000
DTSTAMP:20260421T053256
CREATED:20150222T181156Z
LAST-MODIFIED:20150305T104332Z
UID:73592-1426705200-1426719600@deathmagnetic.pl
SUMMARY:Dienamic + Ennorath + Mastemey + Skyanger
DESCRIPTION:Cena biletów:  \n10 zł \nStart: 19:00
URL:https://deathmagnetic.pl/wydarzenie/dienamic-3/
LOCATION:Kawiarnia Naukowa\, Dajwór 16\, Kraków\, Polska
CATEGORIES:Koncerty,zagraniczne
ATTACH;FMTTYPE=image/jpeg:https://deathmagnetic.pl/wp-content/uploads/2015/02/Dienamic.jpg
ORGANIZER;CN="Creative%20Music":MAILTO:management@creative-music.pl
GEO:50.0509115;19.949766
X-APPLE-STRUCTURED-LOCATION;VALUE=URI;X-ADDRESS=Kawiarnia Naukowa Dajwór 16 Kraków Polska;X-APPLE-RADIUS=500;X-TITLE=Dajwór 16:geo:19.949766,50.0509115
END:VEVENT
END:VCALENDAR