BEGIN:VCALENDAR
VERSION:2.0
PRODID:-//Death Magnetic - ECPv5.10.1//NONSGML v1.0//EN
CALSCALE:GREGORIAN
METHOD:PUBLISH
X-WR-CALNAME:Death Magnetic
X-ORIGINAL-URL:https://deathmagnetic.pl
X-WR-CALDESC:Events for Death Magnetic
BEGIN:VTIMEZONE
TZID:Europe/Warsaw
BEGIN:DAYLIGHT
TZOFFSETFROM:+0100
TZOFFSETTO:+0200
TZNAME:CEST
DTSTART:20150329T010000
END:DAYLIGHT
BEGIN:STANDARD
TZOFFSETFROM:+0200
TZOFFSETTO:+0100
TZNAME:CET
DTSTART:20151025T010000
END:STANDARD
END:VTIMEZONE
BEGIN:VEVENT
DTSTART;TZID=Europe/Warsaw:20150317T190000
DTEND;TZID=Europe/Warsaw:20150317T230000
DTSTAMP:20260421T115203
CREATED:20150222T181025Z
LAST-MODIFIED:20150225T134500Z
UID:73590-1426618800-1426633200@deathmagnetic.pl
SUMMARY:Dienamic
DESCRIPTION:Więcej info wkrótce.
URL:https://deathmagnetic.pl/wydarzenie/dienamic-2/
LOCATION:Leśniczówka\, Aleja Muzyków 1\, Chorzów\, Polska
CATEGORIES:Koncerty,Polskie
ATTACH;FMTTYPE=image/jpeg:https://deathmagnetic.pl/wp-content/uploads/2015/02/Dienamic.jpg
ORGANIZER;CN="Creative%20Music":MAILTO:management@creative-music.pl
GEO:50.2933907;18.9849251
X-APPLE-STRUCTURED-LOCATION;VALUE=URI;X-ADDRESS=Leśniczówka Aleja Muzyków 1 Chorzów Polska;X-APPLE-RADIUS=500;X-TITLE=Aleja Muzyków 1:geo:18.9849251,50.2933907
END:VEVENT
END:VCALENDAR