BEGIN:VCALENDAR
VERSION:2.0
PRODID:-//Death Magnetic - ECPv5.10.1//NONSGML v1.0//EN
CALSCALE:GREGORIAN
METHOD:PUBLISH
X-WR-CALNAME:Death Magnetic
X-ORIGINAL-URL:https://deathmagnetic.pl
X-WR-CALDESC:Events for Death Magnetic
BEGIN:VTIMEZONE
TZID:Europe/Warsaw
BEGIN:DAYLIGHT
TZOFFSETFROM:+0100
TZOFFSETTO:+0200
TZNAME:CEST
DTSTART:20150329T010000
END:DAYLIGHT
BEGIN:STANDARD
TZOFFSETFROM:+0200
TZOFFSETTO:+0100
TZNAME:CET
DTSTART:20151025T010000
END:STANDARD
END:VTIMEZONE
BEGIN:VEVENT
DTSTART;TZID=Europe/Warsaw:20151020T180000
DTEND;TZID=Europe/Warsaw:20151020T210000
DTSTAMP:20260421T064240
CREATED:20150302T170344Z
LAST-MODIFIED:20150302T170344Z
UID:74767-1445364000-1445374800@deathmagnetic.pl
SUMMARY:Diana Krall
DESCRIPTION:Ceny biletów: \n– Płyta Przód: 379 zł \n– Płyta Przód: 299 zł \n– Płyta Środek: 249 zł \n– Płyta Tył: 199 zł \n– Trybuny: 199 – 299 zł \n– VIP: 799 – 899 zł \nBilety dostępne na: \nEventim\, PerfectPR (bilety VIP)
URL:https://deathmagnetic.pl/wydarzenie/diana-krall/
LOCATION:Torwar\, ul. Łazienkowska 6a\, Warszawa
CATEGORIES:Koncerty,zagraniczne
ATTACH;FMTTYPE=image/png:https://deathmagnetic.pl/wp-content/uploads/2015/03/Diana-Krall.png
ORGANIZER;CN="Live%20Nation":MAILTO:info@livenation.pl
GEO:52.2223535;21.0406963
X-APPLE-STRUCTURED-LOCATION;VALUE=URI;X-ADDRESS=Torwar ul. Łazienkowska 6a Warszawa;X-APPLE-RADIUS=500;X-TITLE=ul. Łazienkowska 6a:geo:21.0406963,52.2223535
END:VEVENT
END:VCALENDAR