BEGIN:VCALENDAR
VERSION:2.0
PRODID:-//Death Magnetic - ECPv5.10.1//NONSGML v1.0//EN
CALSCALE:GREGORIAN
METHOD:PUBLISH
X-WR-CALNAME:Death Magnetic
X-ORIGINAL-URL:https://deathmagnetic.pl
X-WR-CALDESC:Events for Death Magnetic
BEGIN:VTIMEZONE
TZID:Europe/Warsaw
BEGIN:DAYLIGHT
TZOFFSETFROM:+0100
TZOFFSETTO:+0200
TZNAME:CEST
DTSTART:20150329T010000
END:DAYLIGHT
BEGIN:STANDARD
TZOFFSETFROM:+0200
TZOFFSETTO:+0100
TZNAME:CET
DTSTART:20151025T010000
END:STANDARD
END:VTIMEZONE
BEGIN:VEVENT
DTSTART;TZID=Europe/Warsaw:20150316T190000
DTEND;TZID=Europe/Warsaw:20150316T230000
DTSTAMP:20260421T085814
CREATED:20150219T171714Z
LAST-MODIFIED:20150225T104708Z
UID:73160-1426532400-1426546800@deathmagnetic.pl
SUMMARY:Devin Townsend Project
DESCRIPTION:Ceny biletów (przedsprzedaż / w dniu koncertu): \n66 zł \nBilety dostępne na: \nLiveNation\, Stodoła  \nStart: 18:00
URL:https://deathmagnetic.pl/wydarzenie/devin-townsend-project/
LOCATION:Stodoła\, Batorego 10\, Warszawa\, mazowieckie\, Polska
CATEGORIES:Koncerty,zagraniczne
ATTACH;FMTTYPE=image/png:https://deathmagnetic.pl/wp-content/uploads/2015/02/devin.png
ORGANIZER;CN="Live%20Nation":MAILTO:info@livenation.pl
GEO:52.2116;21.0101859
X-APPLE-STRUCTURED-LOCATION;VALUE=URI;X-ADDRESS=Stodoła Batorego 10 Warszawa mazowieckie Polska;X-APPLE-RADIUS=500;X-TITLE=Batorego 10:geo:21.0101859,52.2116
END:VEVENT
END:VCALENDAR