BEGIN:VCALENDAR
VERSION:2.0
PRODID:-//Death Magnetic - ECPv5.10.1//NONSGML v1.0//EN
CALSCALE:GREGORIAN
METHOD:PUBLISH
X-WR-CALNAME:Death Magnetic
X-ORIGINAL-URL:https://deathmagnetic.pl
X-WR-CALDESC:Events for Death Magnetic
BEGIN:VTIMEZONE
TZID:Europe/Warsaw
BEGIN:DAYLIGHT
TZOFFSETFROM:+0100
TZOFFSETTO:+0200
TZNAME:CEST
DTSTART:20170326T010000
END:DAYLIGHT
BEGIN:STANDARD
TZOFFSETFROM:+0200
TZOFFSETTO:+0100
TZNAME:CET
DTSTART:20171029T010000
END:STANDARD
END:VTIMEZONE
BEGIN:VEVENT
DTSTART;TZID=Europe/Warsaw:20170218T190000
DTEND;TZID=Europe/Warsaw:20170218T230000
DTSTAMP:20260421T044437
CREATED:20160706T133912Z
LAST-MODIFIED:20160706T134255Z
UID:103029-1487444400-1487458800@deathmagnetic.pl
SUMMARY:Devin Townsend Project + Leprous + Between The Buried And Me
DESCRIPTION:  \nBilety w cenie: 99zł \nDo nabycia m.in. na stronie Live Nation. \n 
URL:https://deathmagnetic.pl/wydarzenie/devin-townsend-project-leprous-between-the-buried-and-me/
LOCATION:Klub Kwadrat\, Stanisława Skarżyńskiego 1\, Kraków\, 31 - 866\, Polska
CATEGORIES:Koncerty,zagraniczne
ATTACH;FMTTYPE=image/jpeg:https://deathmagnetic.pl/wp-content/uploads/2016/07/Devin-Kraków.jpg
ORGANIZER;CN="Live%20Nation":MAILTO:info@livenation.pl
GEO:50.083983;19.9961079
X-APPLE-STRUCTURED-LOCATION;VALUE=URI;X-ADDRESS=Klub Kwadrat Stanisława Skarżyńskiego 1 Kraków 31 - 866 Polska;X-APPLE-RADIUS=500;X-TITLE=Stanisława Skarżyńskiego 1:geo:19.9961079,50.083983
END:VEVENT
END:VCALENDAR