BEGIN:VCALENDAR
VERSION:2.0
PRODID:-//Death Magnetic - ECPv5.10.1//NONSGML v1.0//EN
CALSCALE:GREGORIAN
METHOD:PUBLISH
X-WR-CALNAME:Death Magnetic
X-ORIGINAL-URL:https://deathmagnetic.pl
X-WR-CALDESC:Events for Death Magnetic
BEGIN:VTIMEZONE
TZID:Europe/Warsaw
BEGIN:DAYLIGHT
TZOFFSETFROM:+0100
TZOFFSETTO:+0200
TZNAME:CEST
DTSTART:20160327T010000
END:DAYLIGHT
BEGIN:STANDARD
TZOFFSETFROM:+0200
TZOFFSETTO:+0100
TZNAME:CET
DTSTART:20161030T010000
END:STANDARD
END:VTIMEZONE
BEGIN:VEVENT
DTSTART;TZID=Europe/Warsaw:20160916T190000
DTEND;TZID=Europe/Warsaw:20160916T235500
DTSTAMP:20260420T133410
CREATED:20160524T143339Z
LAST-MODIFIED:20160524T143339Z
UID:101009-1474052400-1474070100@deathmagnetic.pl
SUMMARY:Deströyer 666 +  Embrional + Ragehammer
DESCRIPTION:Przedsprzedaż biletów rozpocznie się 30 maja.
URL:https://deathmagnetic.pl/wydarzenie/destroyer-666-embrional-ragehammer/
LOCATION:Hydrozagadka\, 11 listopada 22\, Warszawa\, Polska
CATEGORIES:Koncerty,patronaty,zagraniczne
ATTACH;FMTTYPE=image/jpeg:https://deathmagnetic.pl/wp-content/uploads/2016/05/Destroyer666-e1515933263671.jpg
GEO:52.259164;21.0363389
X-APPLE-STRUCTURED-LOCATION;VALUE=URI;X-ADDRESS=Hydrozagadka 11 listopada 22 Warszawa Polska;X-APPLE-RADIUS=500;X-TITLE=11 listopada 22:geo:21.0363389,52.259164
END:VEVENT
END:VCALENDAR