BEGIN:VCALENDAR
VERSION:2.0
PRODID:-//Death Magnetic - ECPv5.10.1//NONSGML v1.0//EN
CALSCALE:GREGORIAN
METHOD:PUBLISH
X-WR-CALNAME:Death Magnetic
X-ORIGINAL-URL:https://deathmagnetic.pl
X-WR-CALDESC:Events for Death Magnetic
BEGIN:VTIMEZONE
TZID:Europe/Warsaw
BEGIN:DAYLIGHT
TZOFFSETFROM:+0100
TZOFFSETTO:+0200
TZNAME:CEST
DTSTART:20180325T010000
END:DAYLIGHT
BEGIN:STANDARD
TZOFFSETFROM:+0200
TZOFFSETTO:+0100
TZNAME:CET
DTSTART:20181028T010000
END:STANDARD
END:VTIMEZONE
BEGIN:VEVENT
DTSTART;TZID=Europe/Warsaw:20180221T190000
DTEND;TZID=Europe/Warsaw:20180221T220000
DTSTAMP:20260421T130528
CREATED:20180212T181958Z
LAST-MODIFIED:20180212T181958Z
UID:155055-1519239600-1519250400@deathmagnetic.pl
SUMMARY:Despised Icon + Malevolence + Archspire + Vulvodynia
DESCRIPTION:21.02 / g.19:00\nU Bazyla\, Poznań\nBilety:\n75 – https://pwevents.pl/bilety/despised-icon-malevolence-archspire-vulvodynia/551/111\n80 – Ticketmaster\, Eventim\, eBilet\, Biletomat.pl\, CIM\, Rock Long Luck\n85 – w dniu koncertu
URL:https://deathmagnetic.pl/wydarzenie/despised-icon-malevolence-archspire-vulvodynia/
LOCATION:Klub u Bazyla\, ul. Norwida 18A\, Poznań\, wielkopolskie\, 60-867\, Polska
CATEGORIES:Koncerty,zagraniczne
ATTACH;FMTTYPE=image/jpeg:https://deathmagnetic.pl/wp-content/uploads/2018/02/DI_plakat.jpg
ORGANIZER;CN="P.W.%20Events":MAILTO:piotr@pwevents.pl
GEO:52.41666;16.9111489
X-APPLE-STRUCTURED-LOCATION;VALUE=URI;X-ADDRESS=Klub u Bazyla ul. Norwida 18A Poznań wielkopolskie 60-867 Polska;X-APPLE-RADIUS=500;X-TITLE=ul. Norwida 18A:geo:16.9111489,52.41666
END:VEVENT
END:VCALENDAR