BEGIN:VCALENDAR
VERSION:2.0
PRODID:-//Death Magnetic - ECPv5.10.1//NONSGML v1.0//EN
CALSCALE:GREGORIAN
METHOD:PUBLISH
X-WR-CALNAME:Death Magnetic
X-ORIGINAL-URL:https://deathmagnetic.pl
X-WR-CALDESC:Events for Death Magnetic
BEGIN:VTIMEZONE
TZID:Europe/Warsaw
BEGIN:DAYLIGHT
TZOFFSETFROM:+0100
TZOFFSETTO:+0200
TZNAME:CEST
DTSTART:20160327T010000
END:DAYLIGHT
BEGIN:STANDARD
TZOFFSETFROM:+0200
TZOFFSETTO:+0100
TZNAME:CET
DTSTART:20161030T010000
END:STANDARD
END:VTIMEZONE
BEGIN:VEVENT
DTSTART;TZID=Europe/Warsaw:20160330T190000
DTEND;TZID=Europe/Warsaw:20160330T235500
DTSTAMP:20260420T213924
CREATED:20151128T085033Z
LAST-MODIFIED:20151128T085033Z
UID:94913-1459364400-1459382100@deathmagnetic.pl
SUMMARY:DER WEG EINER FREIHEIT + Harakiri for the sky + The Great Old Ones
DESCRIPTION:Bilety: 35 (PW Events)\, 40 – Eventim\, Ticketpro\, Biletomat.pl\, eBilet\, Kupbilet.pl\, klub Hydrozagadka\, 45 – w dniu koncertu
URL:https://deathmagnetic.pl/wydarzenie/der-weg-einer-freiheit-harakiri-for-the-sky-the-great-old-ones/
LOCATION:Hydrozagadka\, 11 listopada 22\, Warszawa\, Polska
CATEGORIES:Koncerty,Polskie
ATTACH;FMTTYPE=image/jpeg:https://deathmagnetic.pl/wp-content/uploads/2015/11/Der_Weg_Einer_Freiheit.jpg
ORGANIZER;CN="Go%20Ahead":MAILTO:agencja@go-ahead.pl
GEO:52.259164;21.0363389
X-APPLE-STRUCTURED-LOCATION;VALUE=URI;X-ADDRESS=Hydrozagadka 11 listopada 22 Warszawa Polska;X-APPLE-RADIUS=500;X-TITLE=11 listopada 22:geo:21.0363389,52.259164
END:VEVENT
END:VCALENDAR