BEGIN:VCALENDAR
VERSION:2.0
PRODID:-//Death Magnetic - ECPv5.10.1//NONSGML v1.0//EN
CALSCALE:GREGORIAN
METHOD:PUBLISH
X-WR-CALNAME:Death Magnetic
X-ORIGINAL-URL:https://deathmagnetic.pl
X-WR-CALDESC:Events for Death Magnetic
BEGIN:VTIMEZONE
TZID:Europe/Warsaw
BEGIN:DAYLIGHT
TZOFFSETFROM:+0100
TZOFFSETTO:+0200
TZNAME:CEST
DTSTART:20160327T010000
END:DAYLIGHT
BEGIN:STANDARD
TZOFFSETFROM:+0200
TZOFFSETTO:+0100
TZNAME:CET
DTSTART:20161030T010000
END:STANDARD
END:VTIMEZONE
BEGIN:VEVENT
DTSTART;TZID=Europe/Warsaw:20160329T190000
DTEND;TZID=Europe/Warsaw:20160329T235500
DTSTAMP:20260420T230041
CREATED:20151128T085039Z
LAST-MODIFIED:20151128T085039Z
UID:94912-1459278000-1459295700@deathmagnetic.pl
SUMMARY:DER WEG EINER FREIHEIT + Harakiri for the sky + The Great Old Ones
DESCRIPTION:Bilety: 35 – http://pwevents.pl/pl/bilety\,1\,304.html\, 40 – Eventim\, Ticketpro\, Biletomat.pl\, eBilet\, Kubpilet.pl\, Rocky Shop\, klub Liverpool\, 45 – w dniu koncertu
URL:https://deathmagnetic.pl/wydarzenie/der-weg-einer-freiheit-harakiri-for-the-sky-the-great-old-ones-2/
LOCATION:Klub Muzyczny Liverpool\, Świdnicka 37\, Wrocław\, Polska
CATEGORIES:Koncerty,Polskie
ATTACH;FMTTYPE=image/jpeg:https://deathmagnetic.pl/wp-content/uploads/2015/11/Der_Weg_Einer_Freiheit.jpg
ORGANIZER;CN="P.W.%20Events":MAILTO:piotr@pwevents.pl
GEO:51.104006;17.030348
X-APPLE-STRUCTURED-LOCATION;VALUE=URI;X-ADDRESS=Klub Muzyczny Liverpool Świdnicka 37 Wrocław Polska;X-APPLE-RADIUS=500;X-TITLE=Świdnicka 37:geo:17.030348,51.104006
END:VEVENT
END:VCALENDAR