BEGIN:VCALENDAR
VERSION:2.0
PRODID:-//Death Magnetic - ECPv5.10.1//NONSGML v1.0//EN
CALSCALE:GREGORIAN
METHOD:PUBLISH
X-WR-CALNAME:Death Magnetic
X-ORIGINAL-URL:https://deathmagnetic.pl
X-WR-CALDESC:Events for Death Magnetic
BEGIN:VTIMEZONE
TZID:Europe/Warsaw
BEGIN:DAYLIGHT
TZOFFSETFROM:+0100
TZOFFSETTO:+0200
TZNAME:CEST
DTSTART:20170326T010000
END:DAYLIGHT
BEGIN:STANDARD
TZOFFSETFROM:+0200
TZOFFSETTO:+0100
TZNAME:CET
DTSTART:20171029T010000
END:STANDARD
END:VTIMEZONE
BEGIN:VEVENT
DTSTART;VALUE=DATE:20170721
DTEND;VALUE=DATE:20170722
DTSTAMP:20260421T110453
CREATED:20161011T124634Z
LAST-MODIFIED:20161011T125905Z
UID:106472-1500595200-1500681599@deathmagnetic.pl
SUMMARY:Depeche Mode
DESCRIPTION:Ceny biletów:\nTrybuny Premium – 349\,00 PLN\nTrybuny D – 279\,00 PLN\nTrybuny G – nienumerowane – 179\,00 PLN\nGolden Circle Early Entrance – 399\,00 PLN\nGolden Circle – 249\,00 PLN\nPłyta – 209\,00 PLN \nBilety dostępne tylko na www.livenation.pl i www.ticketmaster.pl.\nPrzedsprzedaż biletów startuje 19 października o 10.00 i potrwa do 20 października do 20.00.\nSprzedaż ogólna rusza 21 października o 10.00.\nPakiety hospitality – zobacz ofertę tutaj.
URL:https://deathmagnetic.pl/wydarzenie/depeche-mode/
LOCATION:PGE Stadion Narodowy\, al. Księcia J. Poniatowskiego 1\, Warszawa\, mazowieckie\, Polska
CATEGORIES:Koncerty,zagraniczne
ATTACH;FMTTYPE=image/jpeg:https://deathmagnetic.pl/wp-content/uploads/2016/10/14681048_10154381988692631_4910986833925525721_o.jpg
ORGANIZER;CN="Live%20Nation":MAILTO:info@livenation.pl
GEO:52.239469;21.0458004
X-APPLE-STRUCTURED-LOCATION;VALUE=URI;X-ADDRESS=PGE Stadion Narodowy al. Księcia J. Poniatowskiego 1 Warszawa mazowieckie Polska;X-APPLE-RADIUS=500;X-TITLE=al. Księcia J. Poniatowskiego 1:geo:21.0458004,52.239469
END:VEVENT
END:VCALENDAR