BEGIN:VCALENDAR
VERSION:2.0
PRODID:-//Death Magnetic - ECPv5.10.1//NONSGML v1.0//EN
CALSCALE:GREGORIAN
METHOD:PUBLISH
X-WR-CALNAME:Death Magnetic
X-ORIGINAL-URL:https://deathmagnetic.pl
X-WR-CALDESC:Events for Death Magnetic
BEGIN:VTIMEZONE
TZID:Europe/Warsaw
BEGIN:DAYLIGHT
TZOFFSETFROM:+0100
TZOFFSETTO:+0200
TZNAME:CEST
DTSTART:20170326T010000
END:DAYLIGHT
BEGIN:STANDARD
TZOFFSETFROM:+0200
TZOFFSETTO:+0100
TZNAME:CET
DTSTART:20171029T010000
END:STANDARD
END:VTIMEZONE
BEGIN:VEVENT
DTSTART;TZID=Europe/Warsaw:20170923T173000
DTEND;TZID=Europe/Warsaw:20170923T233000
DTSTAMP:20260420T231325
CREATED:20170509T175751Z
LAST-MODIFIED:20170509T175812Z
UID:117480-1506187800-1506209400@deathmagnetic.pl
SUMMARY:Deformeathing Festival 2017: Christ Agony\, Trauma\, Epitome\, Terrordome\, F.A.M
DESCRIPTION:Drzwi: 17:30\nStart: 18:00\nBilety: 40 zł w przedsprzedaży i 50 zł w dniu koncertu \nBilety można będzie nabyć przez stronę internetową Rudeboy Club w dziale KUP BILET\, będą także dostępne w stałych punktach przedsprzedaży klubu\, jak i w nim samym. \n 
URL:https://deathmagnetic.pl/wydarzenie/deformeathing-festival-2017-christ-agony-trauma-epitome-terrordome-f-a-m/
LOCATION:Rudeboy Club\, 1 maja 20\, Bielsko-Biała\, 43-300\, Polska
CATEGORIES:Koncerty,Polskie
ATTACH;FMTTYPE=image/jpeg:https://deathmagnetic.pl/wp-content/uploads/2017/05/Deformeathing-Festival.jpg
ORGANIZER;CN="Deformeathing%20Production":MAILTO:nfo@deformeathing.com
GEO:49.817453;19.0456459
X-APPLE-STRUCTURED-LOCATION;VALUE=URI;X-ADDRESS=Rudeboy Club 1 maja 20 Bielsko-Biała 43-300 Polska;X-APPLE-RADIUS=500;X-TITLE=1 maja 20:geo:19.0456459,49.817453
END:VEVENT
END:VCALENDAR