BEGIN:VCALENDAR
VERSION:2.0
PRODID:-//Death Magnetic - ECPv5.10.1//NONSGML v1.0//EN
CALSCALE:GREGORIAN
METHOD:PUBLISH
X-WR-CALNAME:Death Magnetic
X-ORIGINAL-URL:https://deathmagnetic.pl
X-WR-CALDESC:Events for Death Magnetic
BEGIN:VTIMEZONE
TZID:Europe/Warsaw
BEGIN:DAYLIGHT
TZOFFSETFROM:+0100
TZOFFSETTO:+0200
TZNAME:CEST
DTSTART:20150329T010000
END:DAYLIGHT
BEGIN:STANDARD
TZOFFSETFROM:+0200
TZOFFSETTO:+0100
TZNAME:CET
DTSTART:20151025T010000
END:STANDARD
END:VTIMEZONE
BEGIN:VEVENT
DTSTART;TZID=Europe/Warsaw:20150418T190000
DTEND;TZID=Europe/Warsaw:20150418T230000
DTSTAMP:20260421T134804
CREATED:20150310T200113Z
LAST-MODIFIED:20150409T163818Z
UID:75622-1429383600-1429398000@deathmagnetic.pl
SUMMARY:Decapitated + War-Saw + Thunderwar + Spirits Way
DESCRIPTION:Ceny biletów (przedsprzedaż / w dniu koncertu): \n35zł / 40zł \nBilety dostępne w: \nStronie Rudeboy Club\,\nRUDEBOY CLUB\, ul. 1-go Maja 20\, w godz. 18.00-24.00\nInfo punkt C.H. SARNI STOK w godz. 09.00-21.00\,\nSalon Muzyczny ELPA\, ul. 1-go Maja 19\, w godz. 10.00-17.00. \nStart: 19:00
URL:https://deathmagnetic.pl/wydarzenie/decapitated-war-saw-thunderwar-spirits-way/
LOCATION:Rudeboy Club\, 1 maja 20\, Bielsko-Biała\, 43-300\, Polska
CATEGORIES:Koncerty,Polskie
ATTACH;FMTTYPE=image/jpeg:https://deathmagnetic.pl/wp-content/uploads/2015/03/Decapitated.jpg
GEO:49.817453;19.0456459
X-APPLE-STRUCTURED-LOCATION;VALUE=URI;X-ADDRESS=Rudeboy Club 1 maja 20 Bielsko-Biała 43-300 Polska;X-APPLE-RADIUS=500;X-TITLE=1 maja 20:geo:19.0456459,49.817453
END:VEVENT
END:VCALENDAR