BEGIN:VCALENDAR
VERSION:2.0
PRODID:-//Death Magnetic - ECPv5.10.1//NONSGML v1.0//EN
CALSCALE:GREGORIAN
METHOD:PUBLISH
X-WR-CALNAME:Death Magnetic
X-ORIGINAL-URL:https://deathmagnetic.pl
X-WR-CALDESC:Events for Death Magnetic
BEGIN:VTIMEZONE
TZID:Europe/Warsaw
BEGIN:DAYLIGHT
TZOFFSETFROM:+0100
TZOFFSETTO:+0200
TZNAME:CEST
DTSTART:20150329T010000
END:DAYLIGHT
BEGIN:STANDARD
TZOFFSETFROM:+0200
TZOFFSETTO:+0100
TZNAME:CET
DTSTART:20151025T010000
END:STANDARD
END:VTIMEZONE
BEGIN:VEVENT
DTSTART;TZID=Europe/Warsaw:20150417T190000
DTEND;TZID=Europe/Warsaw:20150417T220000
DTSTAMP:20260421T085807
CREATED:20150316T192120Z
LAST-MODIFIED:20150316T192120Z
UID:75886-1429297200-1429308000@deathmagnetic.pl
SUMMARY:Decapitated + Mindfield
DESCRIPTION:Ceny biletów: 39zł \nBilety dostępne na:\nRock Klub Iron \nStart: 19:00\nKoniec imprezy: 22:00
URL:https://deathmagnetic.pl/wydarzenie/decapitated-mindfield/
LOCATION:Rock Klub Iron\, ul. Sikorskiego 5\, Krosno\, 38-400\, Polska
CATEGORIES:Koncerty,Polskie
ATTACH;FMTTYPE=image/jpeg:https://deathmagnetic.pl/wp-content/uploads/2015/03/Decapitated1.jpg
ORGANIZER;CN="Rock%20Klub%20Iron":MAILTO:kontakt@ironklub.pl
END:VEVENT
END:VCALENDAR