BEGIN:VCALENDAR
VERSION:2.0
PRODID:-//Death Magnetic - ECPv5.10.1//NONSGML v1.0//EN
CALSCALE:GREGORIAN
METHOD:PUBLISH
X-WR-CALNAME:Death Magnetic
X-ORIGINAL-URL:https://deathmagnetic.pl
X-WR-CALDESC:Events for Death Magnetic
BEGIN:VTIMEZONE
TZID:Europe/Warsaw
BEGIN:DAYLIGHT
TZOFFSETFROM:+0100
TZOFFSETTO:+0200
TZNAME:CEST
DTSTART:20150329T010000
END:DAYLIGHT
BEGIN:STANDARD
TZOFFSETFROM:+0200
TZOFFSETTO:+0100
TZNAME:CET
DTSTART:20151025T010000
END:STANDARD
END:VTIMEZONE
BEGIN:VEVENT
DTSTART;VALUE=DATE:20151204
DTEND;VALUE=DATE:20151205
DTSTAMP:20260421T002727
CREATED:20151001T110421Z
LAST-MODIFIED:20151001T110421Z
UID:92817-1449187200-1449273599@deathmagnetic.pl
SUMMARY:Decapitated + Frontside + Materia + Totem
DESCRIPTION:Bilety: 40 zł – przedsprzedaż\, 50 zł – w dniu koncertu \nBilety dostępne na:\nhttp://knockoutprod.net/sklep/ \nOraz:\nWarszawa:\nTicket Club\, ul. Batorego 10 (kasa klubu Stodoła)\nProgresja Music Zone\, Fort Wola 22
URL:https://deathmagnetic.pl/wydarzenie/decapitated-frontside-materia-totem/
LOCATION:Progresja\, Fort Wola 22\, Warszawa\, Polska
CATEGORIES:Koncerty,Polskie
ATTACH;FMTTYPE=image/jpeg:https://deathmagnetic.pl/wp-content/uploads/2015/10/knockouttour2015.jpg
ORGANIZER;CN="KnockOut%20Productions":MAILTO:info@knockoutprod.net
GEO:52.224827;20.9287
X-APPLE-STRUCTURED-LOCATION;VALUE=URI;X-ADDRESS=Progresja Fort Wola 22 Warszawa Polska;X-APPLE-RADIUS=500;X-TITLE=Fort Wola 22:geo:20.9287,52.224827
END:VEVENT
END:VCALENDAR