BEGIN:VCALENDAR
VERSION:2.0
PRODID:-//Death Magnetic - ECPv5.10.1//NONSGML v1.0//EN
CALSCALE:GREGORIAN
METHOD:PUBLISH
X-WR-CALNAME:Death Magnetic
X-ORIGINAL-URL:https://deathmagnetic.pl
X-WR-CALDESC:Events for Death Magnetic
BEGIN:VTIMEZONE
TZID:Europe/Warsaw
BEGIN:DAYLIGHT
TZOFFSETFROM:+0100
TZOFFSETTO:+0200
TZNAME:CEST
DTSTART:20160327T010000
END:DAYLIGHT
BEGIN:STANDARD
TZOFFSETFROM:+0200
TZOFFSETTO:+0100
TZNAME:CET
DTSTART:20161030T010000
END:STANDARD
END:VTIMEZONE
BEGIN:VEVENT
DTSTART;TZID=Europe/Warsaw:20161014T190000
DTEND;TZID=Europe/Warsaw:20161014T235500
DTSTAMP:20260421T134809
CREATED:20160502T065921Z
LAST-MODIFIED:20160502T071054Z
UID:100248-1476471600-1476489300@deathmagnetic.pl
SUMMARY:Decapitated + Corruption + Antigama + Vervrax
DESCRIPTION:Bilety:\n35 – http://www.pwevents.pl/pl/bilety\,1\,358.html\n40 – Ticketpro\, Eventim\, eBilet\, Biletomat.pl\n45 – w dniu koncertu
URL:https://deathmagnetic.pl/wydarzenie/decapitated-corruption-antigama-vervrax/
LOCATION:Dom Kultury Słowianin\, ul. Korzeniowskiego 2\, Szczecin\, Polska
CATEGORIES:Koncerty,patronaty,Polskie
ATTACH;FMTTYPE=image/png:https://deathmagnetic.pl/wp-content/uploads/2016/04/Decapitated.png
ORGANIZER;CN="P.W.%20Events":MAILTO:piotr@pwevents.pl
GEO:53.4203514;14.5512092
X-APPLE-STRUCTURED-LOCATION;VALUE=URI;X-ADDRESS=Dom Kultury Słowianin ul. Korzeniowskiego 2 Szczecin Polska;X-APPLE-RADIUS=500;X-TITLE=ul. Korzeniowskiego 2:geo:14.5512092,53.4203514
END:VEVENT
END:VCALENDAR