BEGIN:VCALENDAR
VERSION:2.0
PRODID:-//Death Magnetic - ECPv5.10.1//NONSGML v1.0//EN
CALSCALE:GREGORIAN
METHOD:PUBLISH
X-WR-CALNAME:Death Magnetic
X-ORIGINAL-URL:https://deathmagnetic.pl
X-WR-CALDESC:Events for Death Magnetic
BEGIN:VTIMEZONE
TZID:Europe/Warsaw
BEGIN:DAYLIGHT
TZOFFSETFROM:+0100
TZOFFSETTO:+0200
TZNAME:CEST
DTSTART:20150329T010000
END:DAYLIGHT
BEGIN:STANDARD
TZOFFSETFROM:+0200
TZOFFSETTO:+0100
TZNAME:CET
DTSTART:20151025T010000
END:STANDARD
END:VTIMEZONE
BEGIN:VEVENT
DTSTART;TZID=Europe/Warsaw:20150313T180000
DTEND;TZID=Europe/Warsaw:20150313T230000
DTSTAMP:20260421T125905
CREATED:20150219T170403Z
LAST-MODIFIED:20150224T225841Z
UID:73146-1426269600-1426287600@deathmagnetic.pl
SUMMARY:Death To All + Massacre + Abysmal Dawn + Loudblast
DESCRIPTION:Ceny biletów (przedsprzedaż / w dniu koncertu): \n90zł / 100zł \nBilety dostępne na:\nTicketpro\, Eventim\, Ebilet\, Biletin\nBilety kolekcjonerskie dostępne wysyłkowo na stronie Knockout Production.
URL:https://deathmagnetic.pl/wydarzenie/death-to-all-massacre-abysmal-dawn-loudblast/
LOCATION:Fabryka\, ul. Zabłocie 23\, Kraków\, Polska
CATEGORIES:Koncerty,zagraniczne
ATTACH;FMTTYPE=image/jpeg:https://deathmagnetic.pl/wp-content/uploads/2015/02/Death-To-All.jpg
ORGANIZER;CN="KnockOut%20Productions":MAILTO:info@knockoutprod.net
GEO:50.0500744;19.9600714
X-APPLE-STRUCTURED-LOCATION;VALUE=URI;X-ADDRESS=Fabryka ul. Zabłocie 23 Kraków Polska;X-APPLE-RADIUS=500;X-TITLE=ul. Zabłocie 23:geo:19.9600714,50.0500744
END:VEVENT
END:VCALENDAR