BEGIN:VCALENDAR
VERSION:2.0
PRODID:-//Death Magnetic - ECPv5.10.1//NONSGML v1.0//EN
CALSCALE:GREGORIAN
METHOD:PUBLISH
X-WR-CALNAME:Death Magnetic
X-ORIGINAL-URL:https://deathmagnetic.pl
X-WR-CALDESC:Events for Death Magnetic
BEGIN:VTIMEZONE
TZID:Europe/Warsaw
BEGIN:DAYLIGHT
TZOFFSETFROM:+0100
TZOFFSETTO:+0200
TZNAME:CEST
DTSTART:20160327T010000
END:DAYLIGHT
BEGIN:STANDARD
TZOFFSETFROM:+0200
TZOFFSETTO:+0100
TZNAME:CET
DTSTART:20161030T010000
END:STANDARD
END:VTIMEZONE
BEGIN:VEVENT
DTSTART;TZID=Europe/Warsaw:20160214T190000
DTEND;TZID=Europe/Warsaw:20160214T230000
DTSTAMP:20260421T102258
CREATED:20160206T172544Z
LAST-MODIFIED:20160206T172629Z
UID:96971-1455476400-1455490800@deathmagnetic.pl
SUMMARY:Dawid Podsiadło - Son Of Analog Tour
DESCRIPTION:Ceny biletów: \nNormalny – 50zł\nBalkon – 85zł\nBalkon ulgowy – 80zł \nBilety dostępne na stronach: \nWytwórnia: http://bit.ly/1OF6yyn\nTicketPro: http://bit.ly/22QvB7H\nEventim: http://bit.ly/1OF6Mpg\nBiletomat: http://bit.ly/1RpJOou\nBiletyna: http://bit.ly/1K3jrN4
URL:https://deathmagnetic.pl/wydarzenie/dawid-podsiadlo-son-of-analog-tour/
LOCATION:Wytwórnia\, Łąkowa 29\, Łódź
CATEGORIES:Koncerty,Polskie
ATTACH;FMTTYPE=image/png:https://deathmagnetic.pl/wp-content/uploads/2016/02/dawid-podsiadło.png
GEO:51.757883;19.443701
X-APPLE-STRUCTURED-LOCATION;VALUE=URI;X-ADDRESS=Wytwórnia Łąkowa 29 Łódź;X-APPLE-RADIUS=500;X-TITLE=Łąkowa 29:geo:19.443701,51.757883
END:VEVENT
END:VCALENDAR