BEGIN:VCALENDAR
VERSION:2.0
PRODID:-//Death Magnetic - ECPv5.10.1//NONSGML v1.0//EN
CALSCALE:GREGORIAN
METHOD:PUBLISH
X-WR-CALNAME:Death Magnetic
X-ORIGINAL-URL:https://deathmagnetic.pl
X-WR-CALDESC:Events for Death Magnetic
BEGIN:VTIMEZONE
TZID:Europe/Warsaw
BEGIN:DAYLIGHT
TZOFFSETFROM:+0100
TZOFFSETTO:+0200
TZNAME:CEST
DTSTART:20180325T010000
END:DAYLIGHT
BEGIN:STANDARD
TZOFFSETFROM:+0200
TZOFFSETTO:+0100
TZNAME:CET
DTSTART:20181028T010000
END:STANDARD
END:VTIMEZONE
BEGIN:VEVENT
DTSTART;TZID=Europe/Warsaw:20180318T190000
DTEND;TZID=Europe/Warsaw:20180318T220000
DTSTAMP:20260420T062232
CREATED:20180202T184951Z
LAST-MODIFIED:20180202T184951Z
UID:154937-1521399600-1521410400@deathmagnetic.pl
SUMMARY:Daniel Cavanagh (Anathema)
DESCRIPTION:Bilety w cenie 50 zł (przedsprzedaż) i 60 zł (w dniu koncertu) dostępne od 31 stycznia.
URL:https://deathmagnetic.pl/wydarzenie/daniel-cavanagh-anathema-4/
LOCATION:Klub Protokultura\, Niterów 29B\, Gdańsk\, 80-864 \, Polska
CATEGORIES:Koncerty,zagraniczne
ATTACH;FMTTYPE=image/jpeg:https://deathmagnetic.pl/wp-content/uploads/2018/02/Cavanagh_Monochrome_ALL-POLISH-DATES-1.jpg
GEO:54.3650673;18.6444974
X-APPLE-STRUCTURED-LOCATION;VALUE=URI;X-ADDRESS=Klub Protokultura Niterów 29B Gdańsk 80-864  Polska;X-APPLE-RADIUS=500;X-TITLE=Niterów 29B:geo:18.6444974,54.3650673
END:VEVENT
END:VCALENDAR