BEGIN:VCALENDAR
VERSION:2.0
PRODID:-//Death Magnetic - ECPv5.10.1//NONSGML v1.0//EN
CALSCALE:GREGORIAN
METHOD:PUBLISH
X-WR-CALNAME:Death Magnetic
X-ORIGINAL-URL:https://deathmagnetic.pl
X-WR-CALDESC:Events for Death Magnetic
BEGIN:VTIMEZONE
TZID:Europe/Warsaw
BEGIN:DAYLIGHT
TZOFFSETFROM:+0100
TZOFFSETTO:+0200
TZNAME:CEST
DTSTART:20150329T010000
END:DAYLIGHT
BEGIN:STANDARD
TZOFFSETFROM:+0200
TZOFFSETTO:+0100
TZNAME:CET
DTSTART:20151025T010000
END:STANDARD
END:VTIMEZONE
BEGIN:VEVENT
DTSTART;TZID=Europe/Warsaw:20151209T190000
DTEND;TZID=Europe/Warsaw:20151209T230000
DTSTAMP:20260420T133337
CREATED:20151029T082554Z
LAST-MODIFIED:20151029T082554Z
UID:93830-1449687600-1449702000@deathmagnetic.pl
SUMMARY:Daniel Cavanagh (Anathema)
DESCRIPTION:Bilety:\n50zł – dostępne na Biletomat.pl – bilety online\n60zł – w dniu koncertu \nObecna trasa\, promująca wydawnictwo „Memory and Meaning”\, obejmuje w Polsce dwa solowe\, akustyczne koncerty. W czasie występu usłyszeć będzie można\, poza kompozycjami Daniela\, również jego interpretacje utworów Anathemy\, Pink Floyd\, Fleetwood Mac\, czy Kate Bush.
URL:https://deathmagnetic.pl/wydarzenie/daniel-cavanagh-anathema-2/
LOCATION:Klub Protokultura\, Niterów 29B\, Gdańsk\, 80-864 \, Polska
CATEGORIES:Koncerty,zagraniczne
ATTACH;FMTTYPE=image/jpeg:https://deathmagnetic.pl/wp-content/uploads/2015/10/daniel-cavanagh1.jpg
GEO:54.3650673;18.6444974
X-APPLE-STRUCTURED-LOCATION;VALUE=URI;X-ADDRESS=Klub Protokultura Niterów 29B Gdańsk 80-864  Polska;X-APPLE-RADIUS=500;X-TITLE=Niterów 29B:geo:18.6444974,54.3650673
END:VEVENT
END:VCALENDAR