BEGIN:VCALENDAR
VERSION:2.0
PRODID:-//Death Magnetic - ECPv5.10.1//NONSGML v1.0//EN
CALSCALE:GREGORIAN
METHOD:PUBLISH
X-WR-CALNAME:Death Magnetic
X-ORIGINAL-URL:https://deathmagnetic.pl
X-WR-CALDESC:Events for Death Magnetic
BEGIN:VTIMEZONE
TZID:Europe/Warsaw
BEGIN:DAYLIGHT
TZOFFSETFROM:+0100
TZOFFSETTO:+0200
TZNAME:CEST
DTSTART:20150329T010000
END:DAYLIGHT
BEGIN:STANDARD
TZOFFSETFROM:+0200
TZOFFSETTO:+0100
TZNAME:CET
DTSTART:20151025T010000
END:STANDARD
END:VTIMEZONE
BEGIN:VEVENT
DTSTART;TZID=Europe/Warsaw:20150827T150000
DTEND;TZID=Europe/Warsaw:20150830T230000
DTSTAMP:20260420T223425
CREATED:20150326T184547Z
LAST-MODIFIED:20150427T162253Z
UID:77660-1440687600-1440975600@deathmagnetic.pl
SUMMARY:Czad Festiwal
DESCRIPTION:Zagrają:   \nThe Offspring\, Within Temptation\, Korpiklaani\, The Toy Dolls\, Pidżama Porno\, Alestorm\, Happysad\, The Analogs\, Tabu\, Acid Drinkers\, Paddy and The Rats\, Mellow Mood\, Gentleman & The Evolution\, Organek\,  Selfish Murph\, Indios Bravos\, Vavamuffin\, Łąki Łan\, Kabanos\, Lao Che\, Poparzeni Kawą Trzy\,  Lady Pank\, Hunter oraz Cała Góra Barwinków. \n\nCeny biletów: \nKarnet Fan (Do wyczerpania limitów!): marzec\, kwiecień\, maj: 129 zł \nRegular Karnet:\n– czerwiec: 159 zł  \n– lipiec\, sierpień: 169 zł  \nPole namiotowe (Bilet ważny tylko z karnetem!): 45 zł \nBilety dostępna na: \nTicketpro\, Eventim \n  \nWięcej informacji wkrótce!
URL:https://deathmagnetic.pl/wydarzenie/czad-festiwal/
LOCATION:Arena Park\, borowiec\, Straszęcin\, Polska
CATEGORIES:Festiwale
ATTACH;FMTTYPE=image/jpeg:https://deathmagnetic.pl/wp-content/uploads/2015/03/czad-festiwal.jpg
GEO:50.0606984;21.3539453
X-APPLE-STRUCTURED-LOCATION;VALUE=URI;X-ADDRESS=Arena Park borowiec Straszęcin Polska;X-APPLE-RADIUS=500;X-TITLE=borowiec:geo:21.3539453,50.0606984
END:VEVENT
END:VCALENDAR