BEGIN:VCALENDAR
VERSION:2.0
PRODID:-//Death Magnetic - ECPv5.10.1//NONSGML v1.0//EN
CALSCALE:GREGORIAN
METHOD:PUBLISH
X-WR-CALNAME:Death Magnetic
X-ORIGINAL-URL:https://deathmagnetic.pl
X-WR-CALDESC:Events for Death Magnetic
BEGIN:VTIMEZONE
TZID:Europe/Warsaw
BEGIN:DAYLIGHT
TZOFFSETFROM:+0100
TZOFFSETTO:+0200
TZNAME:CEST
DTSTART:20160327T010000
END:DAYLIGHT
BEGIN:STANDARD
TZOFFSETFROM:+0200
TZOFFSETTO:+0100
TZNAME:CET
DTSTART:20161030T010000
END:STANDARD
END:VTIMEZONE
BEGIN:VEVENT
DTSTART;VALUE=DATE:20160825
DTEND;VALUE=DATE:20160829
DTSTAMP:20260420T222101
CREATED:20160209T230942Z
LAST-MODIFIED:20160609T073819Z
UID:97273-1472083200-1472428799@deathmagnetic.pl
SUMMARY:Czad Festiwal 2016
DESCRIPTION:Ceny biletów jednodniowych:\n179 zł* – do końca czerwca\n199 zł* – lipiec\, sierpień\n* – do wyczerpania limitu \nCeny karnetów:\n269 zł* – Marzec\, kwiecień\, maj\, czerwiec\n299 zł – Lipiec\, sierpień\n319 zł – W dniu festiwalu \nPole namiotowe:\n(4 DNI) – 45 zł / os.* – karnet na pole namiotowe dostępny tylko dla posiadaczy karnetu 4-dniowego \nBilety dostępne na stronie festiwalu. \nLINE UP:\nAvantasia\, Pennywise\, Konflikt\, Worldly Savages\, Rozbujane Betoniary\, Molly Malone’s\, Pull The Wire\, Nightwish\, Sabaton\, Hollywood Undead\, NOFX\, Alborosie\, Royal Republic\, Dub Inc\, Che Sudaka\, Enter Shikari\, Ensiferum\, Anthony B.\, The Exploited\, The Dreadnoughts\, Perfect\, Mela Koteluk\, Myslovitz\, Illusion\, Farben Lehre\, Kabanos\, Lipali\, Sexbomba\, Russkaja\, Neonfly\, Fiddler’s Green\, Wiewiórka na drzewie\, Damian Syjonfam.
URL:https://deathmagnetic.pl/wydarzenie/czad-festiwal-2016/
LOCATION:Arena Park\, borowiec\, Straszęcin\, Polska
CATEGORIES:Festiwale
ATTACH;FMTTYPE=image/jpeg:https://deathmagnetic.pl/wp-content/uploads/2016/06/Grafika-Czad-Festiwal.jpg
GEO:50.0606984;21.3539453
X-APPLE-STRUCTURED-LOCATION;VALUE=URI;X-ADDRESS=Arena Park borowiec Straszęcin Polska;X-APPLE-RADIUS=500;X-TITLE=borowiec:geo:21.3539453,50.0606984
END:VEVENT
END:VCALENDAR