BEGIN:VCALENDAR
VERSION:2.0
PRODID:-//Death Magnetic - ECPv5.10.1//NONSGML v1.0//EN
CALSCALE:GREGORIAN
METHOD:PUBLISH
X-WR-CALNAME:Death Magnetic
X-ORIGINAL-URL:https://deathmagnetic.pl
X-WR-CALDESC:Events for Death Magnetic
BEGIN:VTIMEZONE
TZID:Europe/Warsaw
BEGIN:DAYLIGHT
TZOFFSETFROM:+0100
TZOFFSETTO:+0200
TZNAME:CEST
DTSTART:20150329T010000
END:DAYLIGHT
BEGIN:STANDARD
TZOFFSETFROM:+0200
TZOFFSETTO:+0100
TZNAME:CET
DTSTART:20151025T010000
END:STANDARD
END:VTIMEZONE
BEGIN:VEVENT
DTSTART;TZID=Europe/Warsaw:20151206T170000
DTEND;TZID=Europe/Warsaw:20151206T235500
DTSTAMP:20260421T024242
CREATED:20151126T150814Z
LAST-MODIFIED:20151126T150936Z
UID:94875-1449421200-1449446100@deathmagnetic.pl
SUMMARY:Cycek dla Rudej - charytatywny koncert w Club Rocku
DESCRIPTION:Wstęp: Cegiełka dla Rudej to 10 złotych\, lecz każda wyższa kwota jest mile widziana. \nWystąpią: Leśne Licho\, Lorien\, Gorgonzolla\, Hellhaim i Czwarta Kolumna. \nLink do akcji na facebooku.
URL:https://deathmagnetic.pl/wydarzenie/cycek-dla-rudej-charytatywny-koncert-w-club-rocku/
LOCATION:Warszawa\, mazowieckie\, Polska
CATEGORIES:Koncerty,Polskie
ATTACH;FMTTYPE=image/jpeg:https://deathmagnetic.pl/wp-content/uploads/2015/11/cycek_dla_rudej.jpg
END:VEVENT
END:VCALENDAR