BEGIN:VCALENDAR
VERSION:2.0
PRODID:-//Death Magnetic - ECPv5.10.1//NONSGML v1.0//EN
CALSCALE:GREGORIAN
METHOD:PUBLISH
X-WR-CALNAME:Death Magnetic
X-ORIGINAL-URL:https://deathmagnetic.pl
X-WR-CALDESC:Events for Death Magnetic
BEGIN:VTIMEZONE
TZID:Europe/Warsaw
BEGIN:DAYLIGHT
TZOFFSETFROM:+0100
TZOFFSETTO:+0200
TZNAME:CEST
DTSTART:20150329T010000
END:DAYLIGHT
BEGIN:STANDARD
TZOFFSETFROM:+0200
TZOFFSETTO:+0100
TZNAME:CET
DTSTART:20151025T010000
END:STANDARD
END:VTIMEZONE
BEGIN:VEVENT
DTSTART;TZID=Europe/Warsaw:20150224T183000
DTEND;TZID=Europe/Warsaw:20150224T230000
DTSTAMP:20260421T092000
CREATED:20150219T171149Z
LAST-MODIFIED:20150224T181826Z
UID:73156-1424802600-1424818800@deathmagnetic.pl
SUMMARY:Crowbar + Thaw + Czerń
DESCRIPTION:Ceny biletów (przedsprzedaż / w dniu koncertu): \n50 zł / 60 zł \nBilety kolekcjonerskie dostępne wysyłkowo na Knockoutprod.net
URL:https://deathmagnetic.pl/wydarzenie/crowbar-thaw-czern/
LOCATION:Fabryka\, ul. Zabłocie 23\, Kraków\, Polska
CATEGORIES:Koncerty,zagraniczne
ATTACH;FMTTYPE=image/jpeg:https://deathmagnetic.pl/wp-content/uploads/2015/02/Crowbar.jpg
ORGANIZER;CN="KnockOut%20Productions":MAILTO:info@knockoutprod.net
GEO:50.0500744;19.9600714
X-APPLE-STRUCTURED-LOCATION;VALUE=URI;X-ADDRESS=Fabryka ul. Zabłocie 23 Kraków Polska;X-APPLE-RADIUS=500;X-TITLE=ul. Zabłocie 23:geo:19.9600714,50.0500744
END:VEVENT
END:VCALENDAR