BEGIN:VCALENDAR
VERSION:2.0
PRODID:-//Death Magnetic - ECPv5.10.1//NONSGML v1.0//EN
CALSCALE:GREGORIAN
METHOD:PUBLISH
X-WR-CALNAME:Death Magnetic
X-ORIGINAL-URL:https://deathmagnetic.pl
X-WR-CALDESC:Events for Death Magnetic
BEGIN:VTIMEZONE
TZID:Europe/Warsaw
BEGIN:DAYLIGHT
TZOFFSETFROM:+0100
TZOFFSETTO:+0200
TZNAME:CEST
DTSTART:20160327T010000
END:DAYLIGHT
BEGIN:STANDARD
TZOFFSETFROM:+0200
TZOFFSETTO:+0100
TZNAME:CET
DTSTART:20161030T010000
END:STANDARD
END:VTIMEZONE
BEGIN:VEVENT
DTSTART;TZID=Europe/Warsaw:20160512T193000
DTEND;TZID=Europe/Warsaw:20160512T230000
DTSTAMP:20260420T204726
CREATED:20160206T182602Z
LAST-MODIFIED:20160206T182602Z
UID:97009-1463081400-1463094000@deathmagnetic.pl
SUMMARY:Corruption + The Snuff
DESCRIPTION:Informacje o biletach wkrótce.
URL:https://deathmagnetic.pl/wydarzenie/corruption-the-snuff/
LOCATION:Klub Muzyczny New York\, Piotrkowska 62\, Łódź
CATEGORIES:Koncerty,Polskie
ATTACH;FMTTYPE=image/jpeg:https://deathmagnetic.pl/wp-content/uploads/2016/02/Corruption.jpg
GEO:51.7695971;19.4565449
X-APPLE-STRUCTURED-LOCATION;VALUE=URI;X-ADDRESS=Klub Muzyczny New York Piotrkowska 62 Łódź;X-APPLE-RADIUS=500;X-TITLE=Piotrkowska 62:geo:19.4565449,51.7695971
END:VEVENT
END:VCALENDAR